BEGIN:VCALENDAR
VERSION:2.0
PRODID:-//KION Community Events - ECPv6.15.20//NONSGML v1.0//EN
CALSCALE:GREGORIAN
METHOD:PUBLISH
X-ORIGINAL-URL:https://events.kion546.com
X-WR-CALDESC:Events for KION Community Events
REFRESH-INTERVAL;VALUE=DURATION:PT1H
X-Robots-Tag:noindex
X-PUBLISHED-TTL:PT1H
BEGIN:VTIMEZONE
TZID:America/Los_Angeles
BEGIN:DAYLIGHT
TZOFFSETFROM:-0800
TZOFFSETTO:-0700
TZNAME:PDT
DTSTART:20240310T100000
END:DAYLIGHT
BEGIN:STANDARD
TZOFFSETFROM:-0700
TZOFFSETTO:-0800
TZNAME:PST
DTSTART:20241103T090000
END:STANDARD
BEGIN:DAYLIGHT
TZOFFSETFROM:-0800
TZOFFSETTO:-0700
TZNAME:PDT
DTSTART:20250309T100000
END:DAYLIGHT
BEGIN:STANDARD
TZOFFSETFROM:-0700
TZOFFSETTO:-0800
TZNAME:PST
DTSTART:20251102T090000
END:STANDARD
BEGIN:DAYLIGHT
TZOFFSETFROM:-0800
TZOFFSETTO:-0700
TZNAME:PDT
DTSTART:20260308T100000
END:DAYLIGHT
BEGIN:STANDARD
TZOFFSETFROM:-0700
TZOFFSETTO:-0800
TZNAME:PST
DTSTART:20261101T090000
END:STANDARD
END:VTIMEZONE
BEGIN:VEVENT
DTSTART;TZID=America/Los_Angeles:20251123T140000
DTEND;TZID=America/Los_Angeles:20251123T170000
DTSTAMP:20260423T043431
CREATED:20251029T193425Z
LAST-MODIFIED:20251029T193425Z
UID:7931-1763906400-1763917200@events.kion546.com
SUMMARY:"Bandstand"
DESCRIPTION:Music by Richard Oberacker\n Book and Lyrics by Robert Taylor and Richard Oberacker \nFinding salvation in a song – a powerful story of music\, survival\, and the unbreakable bonds forged in battle that will move you to tears and lift your spirit with its authentic 1940s big band sound! \nTHE STORY:\nSet in 1947\, “Bandstand” follows Donny Novitski\, a war veteran and talented musician who dreams of winning a national swing band competition with his fellow veterans. Haunted by the horrors of war and struggling to reintegrate into civilian life\, Donny and his band members find that coming home is more challenging than they ever imagined. When singer Julia Trojan\, a war widow seeking answers to her own painful questions\, joins the group\, their music becomes a path toward healing and hope. As they compete for fame and recognition\, these survivors must confront their demons\, support each other through invisible wounds\, and discover that the greatest battles are sometimes the ones fought after the war ends. Through soaring melodies and heart-wrenching honesty\, “Bandstand” is a testament to the resilience of the human spirit and the redemptive power of music. \nHONORING THOSE WHO SERVED: In recognition of Veterans Day and to honor military service\, we are offering promotional tickets throughout the entire run of the show. Please see flyer attached. \n\nVeterans & Military Service Personnel: 1 FREE ticket (Code: LVRVET)\nFriends & Family: $15 tickets (Code: VETFAM)
URL:https://events.kion546.com/event/bandstand/2025-11-23/
LOCATION:The Western Stage\, 411 Central Ave.\, Salinas\, CA\, 93901\, United States
CATEGORIES:Theater
ATTACH;FMTTYPE=image/jpeg:https://events.kion546.com/wp-content/uploads/2025/10/Bandstand-1080x1080-NEW.jpg
ORGANIZER;CN="The Western Stage":MAILTO:westernstage@hartnell.edu
END:VEVENT
BEGIN:VEVENT
DTSTART;TZID=America/Los_Angeles:20251122T193000
DTEND;TZID=America/Los_Angeles:20251122T223000
DTSTAMP:20260423T043431
CREATED:20251029T193424Z
LAST-MODIFIED:20251029T193424Z
UID:7930-1763839800-1763850600@events.kion546.com
SUMMARY:"Bandstand"
DESCRIPTION:Music by Richard Oberacker\n Book and Lyrics by Robert Taylor and Richard Oberacker \nFinding salvation in a song – a powerful story of music\, survival\, and the unbreakable bonds forged in battle that will move you to tears and lift your spirit with its authentic 1940s big band sound! \nTHE STORY:\nSet in 1947\, “Bandstand” follows Donny Novitski\, a war veteran and talented musician who dreams of winning a national swing band competition with his fellow veterans. Haunted by the horrors of war and struggling to reintegrate into civilian life\, Donny and his band members find that coming home is more challenging than they ever imagined. When singer Julia Trojan\, a war widow seeking answers to her own painful questions\, joins the group\, their music becomes a path toward healing and hope. As they compete for fame and recognition\, these survivors must confront their demons\, support each other through invisible wounds\, and discover that the greatest battles are sometimes the ones fought after the war ends. Through soaring melodies and heart-wrenching honesty\, “Bandstand” is a testament to the resilience of the human spirit and the redemptive power of music. \nHONORING THOSE WHO SERVED: In recognition of Veterans Day and to honor military service\, we are offering promotional tickets throughout the entire run of the show. Please see flyer attached. \n\nVeterans & Military Service Personnel: 1 FREE ticket (Code: LVRVET)\nFriends & Family: $15 tickets (Code: VETFAM)
URL:https://events.kion546.com/event/bandstand/2025-11-22/
LOCATION:The Western Stage\, 411 Central Ave.\, Salinas\, CA\, 93901\, United States
CATEGORIES:Theater
ATTACH;FMTTYPE=image/jpeg:https://events.kion546.com/wp-content/uploads/2025/10/Bandstand-1080x1080-NEW.jpg
ORGANIZER;CN="The Western Stage":MAILTO:westernstage@hartnell.edu
END:VEVENT
BEGIN:VEVENT
DTSTART;TZID=America/Los_Angeles:20251116T140000
DTEND;TZID=America/Los_Angeles:20251116T170000
DTSTAMP:20260423T043431
CREATED:20251029T193424Z
LAST-MODIFIED:20251029T193424Z
UID:7929-1763301600-1763312400@events.kion546.com
SUMMARY:"Bandstand"
DESCRIPTION:Music by Richard Oberacker\n Book and Lyrics by Robert Taylor and Richard Oberacker \nFinding salvation in a song – a powerful story of music\, survival\, and the unbreakable bonds forged in battle that will move you to tears and lift your spirit with its authentic 1940s big band sound! \nTHE STORY:\nSet in 1947\, “Bandstand” follows Donny Novitski\, a war veteran and talented musician who dreams of winning a national swing band competition with his fellow veterans. Haunted by the horrors of war and struggling to reintegrate into civilian life\, Donny and his band members find that coming home is more challenging than they ever imagined. When singer Julia Trojan\, a war widow seeking answers to her own painful questions\, joins the group\, their music becomes a path toward healing and hope. As they compete for fame and recognition\, these survivors must confront their demons\, support each other through invisible wounds\, and discover that the greatest battles are sometimes the ones fought after the war ends. Through soaring melodies and heart-wrenching honesty\, “Bandstand” is a testament to the resilience of the human spirit and the redemptive power of music. \nHONORING THOSE WHO SERVED: In recognition of Veterans Day and to honor military service\, we are offering promotional tickets throughout the entire run of the show. Please see flyer attached. \n\nVeterans & Military Service Personnel: 1 FREE ticket (Code: LVRVET)\nFriends & Family: $15 tickets (Code: VETFAM)
URL:https://events.kion546.com/event/bandstand/2025-11-16/
LOCATION:The Western Stage\, 411 Central Ave.\, Salinas\, CA\, 93901\, United States
CATEGORIES:Theater
ATTACH;FMTTYPE=image/jpeg:https://events.kion546.com/wp-content/uploads/2025/10/Bandstand-1080x1080-NEW.jpg
ORGANIZER;CN="The Western Stage":MAILTO:westernstage@hartnell.edu
END:VEVENT
BEGIN:VEVENT
DTSTART;TZID=America/Los_Angeles:20251115T193000
DTEND;TZID=America/Los_Angeles:20251115T223000
DTSTAMP:20260423T043431
CREATED:20251029T193424Z
LAST-MODIFIED:20251029T193424Z
UID:7928-1763235000-1763245800@events.kion546.com
SUMMARY:"Bandstand"
DESCRIPTION:Music by Richard Oberacker\n Book and Lyrics by Robert Taylor and Richard Oberacker \nFinding salvation in a song – a powerful story of music\, survival\, and the unbreakable bonds forged in battle that will move you to tears and lift your spirit with its authentic 1940s big band sound! \nTHE STORY:\nSet in 1947\, “Bandstand” follows Donny Novitski\, a war veteran and talented musician who dreams of winning a national swing band competition with his fellow veterans. Haunted by the horrors of war and struggling to reintegrate into civilian life\, Donny and his band members find that coming home is more challenging than they ever imagined. When singer Julia Trojan\, a war widow seeking answers to her own painful questions\, joins the group\, their music becomes a path toward healing and hope. As they compete for fame and recognition\, these survivors must confront their demons\, support each other through invisible wounds\, and discover that the greatest battles are sometimes the ones fought after the war ends. Through soaring melodies and heart-wrenching honesty\, “Bandstand” is a testament to the resilience of the human spirit and the redemptive power of music. \nHONORING THOSE WHO SERVED: In recognition of Veterans Day and to honor military service\, we are offering promotional tickets throughout the entire run of the show. Please see flyer attached. \n\nVeterans & Military Service Personnel: 1 FREE ticket (Code: LVRVET)\nFriends & Family: $15 tickets (Code: VETFAM)
URL:https://events.kion546.com/event/bandstand/2025-11-15/
LOCATION:The Western Stage\, 411 Central Ave.\, Salinas\, CA\, 93901\, United States
CATEGORIES:Theater
ATTACH;FMTTYPE=image/jpeg:https://events.kion546.com/wp-content/uploads/2025/10/Bandstand-1080x1080-NEW.jpg
ORGANIZER;CN="The Western Stage":MAILTO:westernstage@hartnell.edu
END:VEVENT
BEGIN:VEVENT
DTSTART;TZID=America/Los_Angeles:20251109T140000
DTEND;TZID=America/Los_Angeles:20251109T170000
DTSTAMP:20260423T043431
CREATED:20251029T193423Z
LAST-MODIFIED:20251029T193423Z
UID:7927-1762696800-1762707600@events.kion546.com
SUMMARY:"Bandstand"
DESCRIPTION:Music by Richard Oberacker\n Book and Lyrics by Robert Taylor and Richard Oberacker \nFinding salvation in a song – a powerful story of music\, survival\, and the unbreakable bonds forged in battle that will move you to tears and lift your spirit with its authentic 1940s big band sound! \nTHE STORY:\nSet in 1947\, “Bandstand” follows Donny Novitski\, a war veteran and talented musician who dreams of winning a national swing band competition with his fellow veterans. Haunted by the horrors of war and struggling to reintegrate into civilian life\, Donny and his band members find that coming home is more challenging than they ever imagined. When singer Julia Trojan\, a war widow seeking answers to her own painful questions\, joins the group\, their music becomes a path toward healing and hope. As they compete for fame and recognition\, these survivors must confront their demons\, support each other through invisible wounds\, and discover that the greatest battles are sometimes the ones fought after the war ends. Through soaring melodies and heart-wrenching honesty\, “Bandstand” is a testament to the resilience of the human spirit and the redemptive power of music. \nHONORING THOSE WHO SERVED: In recognition of Veterans Day and to honor military service\, we are offering promotional tickets throughout the entire run of the show. Please see flyer attached. \n\nVeterans & Military Service Personnel: 1 FREE ticket (Code: LVRVET)\nFriends & Family: $15 tickets (Code: VETFAM)
URL:https://events.kion546.com/event/bandstand/2025-11-09/
LOCATION:The Western Stage\, 411 Central Ave.\, Salinas\, CA\, 93901\, United States
CATEGORIES:Theater
ATTACH;FMTTYPE=image/jpeg:https://events.kion546.com/wp-content/uploads/2025/10/Bandstand-1080x1080-NEW.jpg
ORGANIZER;CN="The Western Stage":MAILTO:westernstage@hartnell.edu
END:VEVENT
BEGIN:VEVENT
DTSTART;TZID=America/Los_Angeles:20251108T193000
DTEND;TZID=America/Los_Angeles:20251108T223000
DTSTAMP:20260423T043431
CREATED:20251029T193423Z
LAST-MODIFIED:20251029T193423Z
UID:7926-1762630200-1762641000@events.kion546.com
SUMMARY:"Bandstand"
DESCRIPTION:Music by Richard Oberacker\n Book and Lyrics by Robert Taylor and Richard Oberacker \nFinding salvation in a song – a powerful story of music\, survival\, and the unbreakable bonds forged in battle that will move you to tears and lift your spirit with its authentic 1940s big band sound! \nTHE STORY:\nSet in 1947\, “Bandstand” follows Donny Novitski\, a war veteran and talented musician who dreams of winning a national swing band competition with his fellow veterans. Haunted by the horrors of war and struggling to reintegrate into civilian life\, Donny and his band members find that coming home is more challenging than they ever imagined. When singer Julia Trojan\, a war widow seeking answers to her own painful questions\, joins the group\, their music becomes a path toward healing and hope. As they compete for fame and recognition\, these survivors must confront their demons\, support each other through invisible wounds\, and discover that the greatest battles are sometimes the ones fought after the war ends. Through soaring melodies and heart-wrenching honesty\, “Bandstand” is a testament to the resilience of the human spirit and the redemptive power of music. \nHONORING THOSE WHO SERVED: In recognition of Veterans Day and to honor military service\, we are offering promotional tickets throughout the entire run of the show. Please see flyer attached. \n\nVeterans & Military Service Personnel: 1 FREE ticket (Code: LVRVET)\nFriends & Family: $15 tickets (Code: VETFAM)
URL:https://events.kion546.com/event/bandstand/2025-11-08/
LOCATION:The Western Stage\, 411 Central Ave.\, Salinas\, CA\, 93901\, United States
CATEGORIES:Theater
ATTACH;FMTTYPE=image/jpeg:https://events.kion546.com/wp-content/uploads/2025/10/Bandstand-1080x1080-NEW.jpg
ORGANIZER;CN="The Western Stage":MAILTO:westernstage@hartnell.edu
END:VEVENT
BEGIN:VEVENT
DTSTART;TZID=America/Los_Angeles:20251102T140000
DTEND;TZID=America/Los_Angeles:20251102T170000
DTSTAMP:20260423T043431
CREATED:20251029T193423Z
LAST-MODIFIED:20251029T193423Z
UID:7925-1762092000-1762102800@events.kion546.com
SUMMARY:"Bandstand"
DESCRIPTION:Music by Richard Oberacker\n Book and Lyrics by Robert Taylor and Richard Oberacker \nFinding salvation in a song – a powerful story of music\, survival\, and the unbreakable bonds forged in battle that will move you to tears and lift your spirit with its authentic 1940s big band sound! \nTHE STORY:\nSet in 1947\, “Bandstand” follows Donny Novitski\, a war veteran and talented musician who dreams of winning a national swing band competition with his fellow veterans. Haunted by the horrors of war and struggling to reintegrate into civilian life\, Donny and his band members find that coming home is more challenging than they ever imagined. When singer Julia Trojan\, a war widow seeking answers to her own painful questions\, joins the group\, their music becomes a path toward healing and hope. As they compete for fame and recognition\, these survivors must confront their demons\, support each other through invisible wounds\, and discover that the greatest battles are sometimes the ones fought after the war ends. Through soaring melodies and heart-wrenching honesty\, “Bandstand” is a testament to the resilience of the human spirit and the redemptive power of music. \nHONORING THOSE WHO SERVED: In recognition of Veterans Day and to honor military service\, we are offering promotional tickets throughout the entire run of the show. Please see flyer attached. \n\nVeterans & Military Service Personnel: 1 FREE ticket (Code: LVRVET)\nFriends & Family: $15 tickets (Code: VETFAM)
URL:https://events.kion546.com/event/bandstand/2025-11-02/
LOCATION:The Western Stage\, 411 Central Ave.\, Salinas\, CA\, 93901\, United States
CATEGORIES:Theater
ATTACH;FMTTYPE=image/jpeg:https://events.kion546.com/wp-content/uploads/2025/10/Bandstand-1080x1080-NEW.jpg
ORGANIZER;CN="The Western Stage":MAILTO:westernstage@hartnell.edu
END:VEVENT
BEGIN:VEVENT
DTSTART;TZID=America/Los_Angeles:20251101T193000
DTEND;TZID=America/Los_Angeles:20251101T223000
DTSTAMP:20260423T043431
CREATED:20251029T193422Z
LAST-MODIFIED:20251029T193422Z
UID:7921-1762025400-1762036200@events.kion546.com
SUMMARY:"Bandstand"
DESCRIPTION:Music by Richard Oberacker\n Book and Lyrics by Robert Taylor and Richard Oberacker \nFinding salvation in a song – a powerful story of music\, survival\, and the unbreakable bonds forged in battle that will move you to tears and lift your spirit with its authentic 1940s big band sound! \nTHE STORY:\nSet in 1947\, “Bandstand” follows Donny Novitski\, a war veteran and talented musician who dreams of winning a national swing band competition with his fellow veterans. Haunted by the horrors of war and struggling to reintegrate into civilian life\, Donny and his band members find that coming home is more challenging than they ever imagined. When singer Julia Trojan\, a war widow seeking answers to her own painful questions\, joins the group\, their music becomes a path toward healing and hope. As they compete for fame and recognition\, these survivors must confront their demons\, support each other through invisible wounds\, and discover that the greatest battles are sometimes the ones fought after the war ends. Through soaring melodies and heart-wrenching honesty\, “Bandstand” is a testament to the resilience of the human spirit and the redemptive power of music. \nHONORING THOSE WHO SERVED: In recognition of Veterans Day and to honor military service\, we are offering promotional tickets throughout the entire run of the show. Please see flyer attached. \n\nVeterans & Military Service Personnel: 1 FREE ticket (Code: LVRVET)\nFriends & Family: $15 tickets (Code: VETFAM)
URL:https://events.kion546.com/event/bandstand/2025-11-01/
LOCATION:The Western Stage\, 411 Central Ave.\, Salinas\, CA\, 93901\, United States
CATEGORIES:Theater
ATTACH;FMTTYPE=image/jpeg:https://events.kion546.com/wp-content/uploads/2025/10/Bandstand-1080x1080-NEW.jpg
ORGANIZER;CN="The Western Stage":MAILTO:westernstage@hartnell.edu
END:VEVENT
END:VCALENDAR