BEGIN:VCALENDAR
VERSION:2.0
PRODID:-//KION Community Events - ECPv6.15.20//NONSGML v1.0//EN
CALSCALE:GREGORIAN
METHOD:PUBLISH
X-WR-CALNAME:KION Community Events
X-ORIGINAL-URL:https://events.kion546.com
X-WR-CALDESC:Events for KION Community Events
REFRESH-INTERVAL;VALUE=DURATION:PT1H
X-Robots-Tag:noindex
X-PUBLISHED-TTL:PT1H
BEGIN:VTIMEZONE
TZID:America/Los_Angeles
BEGIN:DAYLIGHT
TZOFFSETFROM:-0800
TZOFFSETTO:-0700
TZNAME:PDT
DTSTART:20220313T100000
END:DAYLIGHT
BEGIN:STANDARD
TZOFFSETFROM:-0700
TZOFFSETTO:-0800
TZNAME:PST
DTSTART:20221106T090000
END:STANDARD
BEGIN:DAYLIGHT
TZOFFSETFROM:-0800
TZOFFSETTO:-0700
TZNAME:PDT
DTSTART:20230312T100000
END:DAYLIGHT
BEGIN:STANDARD
TZOFFSETFROM:-0700
TZOFFSETTO:-0800
TZNAME:PST
DTSTART:20231105T090000
END:STANDARD
BEGIN:DAYLIGHT
TZOFFSETFROM:-0800
TZOFFSETTO:-0700
TZNAME:PDT
DTSTART:20240310T100000
END:DAYLIGHT
BEGIN:STANDARD
TZOFFSETFROM:-0700
TZOFFSETTO:-0800
TZNAME:PST
DTSTART:20241103T090000
END:STANDARD
END:VTIMEZONE
BEGIN:VTIMEZONE
TZID:America/New_York
BEGIN:DAYLIGHT
TZOFFSETFROM:-0500
TZOFFSETTO:-0400
TZNAME:EDT
DTSTART:20220313T070000
END:DAYLIGHT
BEGIN:STANDARD
TZOFFSETFROM:-0400
TZOFFSETTO:-0500
TZNAME:EST
DTSTART:20221106T060000
END:STANDARD
BEGIN:DAYLIGHT
TZOFFSETFROM:-0500
TZOFFSETTO:-0400
TZNAME:EDT
DTSTART:20230312T070000
END:DAYLIGHT
BEGIN:STANDARD
TZOFFSETFROM:-0400
TZOFFSETTO:-0500
TZNAME:EST
DTSTART:20231105T060000
END:STANDARD
BEGIN:DAYLIGHT
TZOFFSETFROM:-0500
TZOFFSETTO:-0400
TZNAME:EDT
DTSTART:20240310T070000
END:DAYLIGHT
BEGIN:STANDARD
TZOFFSETFROM:-0400
TZOFFSETTO:-0500
TZNAME:EST
DTSTART:20241103T060000
END:STANDARD
END:VTIMEZONE
BEGIN:VTIMEZONE
TZID:America/Chicago
BEGIN:DAYLIGHT
TZOFFSETFROM:-0600
TZOFFSETTO:-0500
TZNAME:CDT
DTSTART:20220313T080000
END:DAYLIGHT
BEGIN:STANDARD
TZOFFSETFROM:-0500
TZOFFSETTO:-0600
TZNAME:CST
DTSTART:20221106T070000
END:STANDARD
BEGIN:DAYLIGHT
TZOFFSETFROM:-0600
TZOFFSETTO:-0500
TZNAME:CDT
DTSTART:20230312T080000
END:DAYLIGHT
BEGIN:STANDARD
TZOFFSETFROM:-0500
TZOFFSETTO:-0600
TZNAME:CST
DTSTART:20231105T070000
END:STANDARD
BEGIN:DAYLIGHT
TZOFFSETFROM:-0600
TZOFFSETTO:-0500
TZNAME:CDT
DTSTART:20240310T080000
END:DAYLIGHT
BEGIN:STANDARD
TZOFFSETFROM:-0500
TZOFFSETTO:-0600
TZNAME:CST
DTSTART:20241103T070000
END:STANDARD
END:VTIMEZONE
BEGIN:VEVENT
DTSTART;TZID=America/Los_Angeles:20230305T140000
DTEND;TZID=America/Los_Angeles:20230305T153000
DTSTAMP:20260423T021228
CREATED:20230223T231126Z
LAST-MODIFIED:20230302T231011Z
UID:2791-1678024800-1678030200@events.kion546.com
SUMMARY:Wine Blending for 2
DESCRIPTION:Taste\, blend\, create your own wine blend.  Take a bottle of your blend home!
URL:https://events.kion546.com/event/wine-blending-for-2-22/
LOCATION:Wine Experience\, 381 Cannery Row\, Monterey\, CA\, 93940\, United States
ATTACH;FMTTYPE=image/jpeg:https://events.kion546.com/wp-content/uploads/2023/02/744046755713426f263c966794575ddf-OSysLt.tmp_.jpg
END:VEVENT
BEGIN:VEVENT
DTSTART;TZID=America/Los_Angeles:20230305T133000
DTEND;TZID=America/Los_Angeles:20230305T150000
DTSTAMP:20260423T021228
CREATED:20230223T231126Z
LAST-MODIFIED:20230302T231011Z
UID:2790-1678023000-1678028400@events.kion546.com
SUMMARY:Wine Blending for 2
DESCRIPTION:Taste\, blend\, create your own wine blend.  Take a bottle of your blend home!
URL:https://events.kion546.com/event/wine-blending-for-2-21/
LOCATION:Wine Experience\, 381 Cannery Row\, Monterey\, CA\, 93940\, United States
ATTACH;FMTTYPE=image/jpeg:https://events.kion546.com/wp-content/uploads/2023/02/744046755713426f263c966794575ddf-OSysLt.tmp_.jpg
END:VEVENT
BEGIN:VEVENT
DTSTART;TZID=America/Los_Angeles:20230305T130000
DTEND;TZID=America/Los_Angeles:20230305T143000
DTSTAMP:20260423T021228
CREATED:20230223T231125Z
LAST-MODIFIED:20230302T231011Z
UID:2789-1678021200-1678026600@events.kion546.com
SUMMARY:Wine Blending for 2
DESCRIPTION:Taste\, blend\, create your own wine blend.  Take a bottle of your blend home!
URL:https://events.kion546.com/event/wine-blending-for-2-20/
LOCATION:Wine Experience\, 381 Cannery Row\, Monterey\, CA\, 93940\, United States
ATTACH;FMTTYPE=image/jpeg:https://events.kion546.com/wp-content/uploads/2023/02/744046755713426f263c966794575ddf-OSysLt.tmp_.jpg
END:VEVENT
BEGIN:VEVENT
DTSTART;TZID=America/Los_Angeles:20230305T110000
DTEND;TZID=America/Los_Angeles:20230305T210000
DTSTAMP:20260423T021228
CREATED:20230201T205728Z
LAST-MODIFIED:20230201T205728Z
UID:2637-1678014000-1678050000@events.kion546.com
SUMMARY:One Team Scavenger Hunt Long Beach
DESCRIPTION:Puzzling Adventures™ are a cross between a scavenger hunt\, an adventure race\, and an informative self-guided tour.
URL:https://events.kion546.com/event/one-team-scavenger-hunt-long-beach-35/
LOCATION:Recommended Parking to Begin Adventure\, 100 Pacific Avenue\, Long Beach\, CA\, 90802\, United States
ATTACH;FMTTYPE=image/jpeg:https://events.kion546.com/wp-content/uploads/2023/01/504897daaa08485be8533be274f4db16-U56CQN.tmp_.jpg
END:VEVENT
BEGIN:VEVENT
DTSTART;TZID=America/New_York:20230305T110000
DTEND;TZID=America/New_York:20230305T210000
DTSTAMP:20260423T021229
CREATED:20230201T205507Z
LAST-MODIFIED:20230201T205507Z
UID:2588-1678014000-1678050000@events.kion546.com
SUMMARY:One Team Scavenger Hunt Pittsburgh
DESCRIPTION:Puzzling Adventures™ are a cross between a scavenger hunt\, an adventure race\, and an informative self-guided tour.
URL:https://events.kion546.com/event/one-team-scavenger-hunt-pittsburgh-35/
LOCATION:Recommended Parking to Begin Adventure\, 100 Pacific Avenue\, Long Beach\, CA\, 90802\, United States
ATTACH;FMTTYPE=image/jpeg:https://events.kion546.com/wp-content/uploads/2023/01/674d61436eaa226fabe78156a29d5aff-pMb2Bl.tmp_.jpg
END:VEVENT
BEGIN:VEVENT
DTSTART;TZID=America/Los_Angeles:20230305T110000
DTEND;TZID=America/Los_Angeles:20230305T210000
DTSTAMP:20260423T021229
CREATED:20230201T205353Z
LAST-MODIFIED:20230201T205353Z
UID:2539-1678014000-1678050000@events.kion546.com
SUMMARY:One Team Scavenger Hunt Huntington Beach
DESCRIPTION:Puzzling Adventures™ are a cross between a scavenger hunt\, an adventure race\, and an informative self-guided tour.
URL:https://events.kion546.com/event/one-team-scavenger-hunt-huntington-beach-35/
LOCATION:Recommended Parking to Begin Adventure\, 100 Pacific Avenue\, Long Beach\, CA\, 90802\, United States
ATTACH;FMTTYPE=image/jpeg:https://events.kion546.com/wp-content/uploads/2023/01/0e0a88e6d3a2d3e1c8040191771fef96-TyPSKf.tmp_.jpg
END:VEVENT
BEGIN:VEVENT
DTSTART;TZID=America/Los_Angeles:20230305T110000
DTEND;TZID=America/Los_Angeles:20230305T210000
DTSTAMP:20260423T021229
CREATED:20230201T205257Z
LAST-MODIFIED:20230201T205257Z
UID:2490-1678014000-1678050000@events.kion546.com
SUMMARY:One Team Scavenger Hunt Redding
DESCRIPTION:Puzzling Adventures™ are a cross between a scavenger hunt\, an adventure race\, and an informative self-guided tour.
URL:https://events.kion546.com/event/one-team-scavenger-hunt-redding-35/
LOCATION:Recommended Parking to Begin Adventure\, 100 Pacific Avenue\, Long Beach\, CA\, 90802\, United States
ATTACH;FMTTYPE=image/jpeg:https://events.kion546.com/wp-content/uploads/2023/01/100ac3b687413d992dc9b14bc6709bfa-85N3uw.tmp_.jpg
END:VEVENT
BEGIN:VEVENT
DTSTART;TZID=America/Los_Angeles:20230305T110000
DTEND;TZID=America/Los_Angeles:20230305T210000
DTSTAMP:20260423T021229
CREATED:20230201T205037Z
LAST-MODIFIED:20230201T205037Z
UID:2441-1678014000-1678050000@events.kion546.com
SUMMARY:One Team Scavenger Hunt Julian
DESCRIPTION:Puzzling Adventures™ are a cross between a scavenger hunt\, an adventure race\, and an informative self-guided tour.
URL:https://events.kion546.com/event/one-team-scavenger-hunt-julian-35/
LOCATION:Recommended Parking to Begin Adventure\, 100 Pacific Avenue\, Long Beach\, CA\, 90802\, United States
ATTACH;FMTTYPE=image/jpeg:https://events.kion546.com/wp-content/uploads/2023/01/cd27046425cca7bc8dc27ddc12d99ccf-N5lLc0.tmp_.jpg
END:VEVENT
BEGIN:VEVENT
DTSTART;TZID=America/Chicago:20230305T110000
DTEND;TZID=America/Chicago:20230305T210000
DTSTAMP:20260423T021229
CREATED:20230201T204858Z
LAST-MODIFIED:20230201T204858Z
UID:2392-1678014000-1678050000@events.kion546.com
SUMMARY:One Team Scavenger Hunt Jackson Tennessee
DESCRIPTION:Puzzling Adventures™ are a cross between a scavenger hunt\, an adventure race\, and an informative self-guided tour.
URL:https://events.kion546.com/event/one-team-scavenger-hunt-jackson-tennessee-35/
LOCATION:Recommended Parking to Begin Adventure\, 100 Pacific Avenue\, Long Beach\, CA\, 90802\, United States
ATTACH;FMTTYPE=image/jpeg:https://events.kion546.com/wp-content/uploads/2023/01/bf7dd2b039e4dbbc8f7e8490520413c8-CtJX6m.tmp_.jpg
END:VEVENT
BEGIN:VEVENT
DTSTART;TZID=America/Los_Angeles:20230305T110000
DTEND;TZID=America/Los_Angeles:20230305T210000
DTSTAMP:20260423T021229
CREATED:20230201T204808Z
LAST-MODIFIED:20230201T204808Z
UID:2343-1678014000-1678050000@events.kion546.com
SUMMARY:One Team Scavenger Hunt Santa Monica
DESCRIPTION:Puzzling Adventures™ are a cross between a scavenger hunt\, an adventure race\, and an informative self-guided tour.
URL:https://events.kion546.com/event/one-team-scavenger-hunt-santa-monica-85/
LOCATION:Recommended Parking to Begin Adventure\, 100 Pacific Avenue\, Long Beach\, CA\, 90802\, United States
ATTACH;FMTTYPE=image/jpeg:https://events.kion546.com/wp-content/uploads/2022/12/d5277a2612e04056491d7fe1305c3106-vfNcdi.tmp_.jpg
END:VEVENT
BEGIN:VEVENT
DTSTART;TZID=America/Los_Angeles:20230305T110000
DTEND;TZID=America/Los_Angeles:20230305T170000
DTSTAMP:20260423T021229
CREATED:20221211T064914Z
LAST-MODIFIED:20230301T214504Z
UID:1411-1678014000-1678035600@events.kion546.com
SUMMARY:MMA Museum Visit
DESCRIPTION:Tour the galleries and exhibitions at MMA Pacific Street
URL:https://events.kion546.com/event/mma-museum-visit-71/
LOCATION:Monterey Museum of Art–Pacific Street\, 559 Pacific Street\, Monterey\, CA\, 93940\, United States
ATTACH;FMTTYPE=image/jpeg:https://events.kion546.com/wp-content/uploads/2022/12/59b39f0db006dd57c81d6771b7cb12c8-eNNMsJ.tmp_.jpg
END:VEVENT
BEGIN:VEVENT
DTSTART;TZID=America/Los_Angeles:20230304T200000
DTEND;TZID=America/Los_Angeles:20230304T230000
DTSTAMP:20260423T021229
CREATED:20230224T152532Z
LAST-MODIFIED:20230303T152445Z
UID:2803-1677960000-1677970800@events.kion546.com
SUMMARY:Chuck Brewer
DESCRIPTION:Rock the Row with Chuck Brewer\n\n\nThe Chuck Brewer Band serves up a heady brew of tasty originals and cool\, classic cover songs\, featuring bluesy pop\, rock\, soul\, and country styles. Creative\, exciting\, and always fun\, this band will keep you movin’ and groovin’ all night long! \nHelp keep live music alive and join us under the stars. We have the largest heated outdoor patio on Cannery Row. Fire pits\, heat lamps\, and fireplace. 14 draft beers. Cocktails. Wine. Don’t forget your dancing shoes!
URL:https://events.kion546.com/event/chuck-brewer-5/
LOCATION:The Salty Seal Brewpub and Sports Bar\, 653 Cannery Row\, Monterey\, CA\, 93940\, United States
ATTACH;FMTTYPE=image/jpeg:https://events.kion546.com/wp-content/uploads/2023/02/bb3d51864222c84029ddca8665abc5ed-2emSUL.tmp_.jpg
END:VEVENT
BEGIN:VEVENT
DTSTART;TZID=America/Los_Angeles:20230304T190000
DTEND;TZID=America/Los_Angeles:20230304T203000
DTSTAMP:20260423T021229
CREATED:20230223T231125Z
LAST-MODIFIED:20230302T231011Z
UID:2788-1677956400-1677961800@events.kion546.com
SUMMARY:Wine Blending for 2
DESCRIPTION:Taste\, blend\, create your own wine blend.  Take a bottle of your blend home!
URL:https://events.kion546.com/event/wine-blending-for-2-19/
LOCATION:Wine Experience\, 381 Cannery Row\, Monterey\, CA\, 93940\, United States
ATTACH;FMTTYPE=image/jpeg:https://events.kion546.com/wp-content/uploads/2023/02/744046755713426f263c966794575ddf-OSysLt.tmp_.jpg
END:VEVENT
BEGIN:VEVENT
DTSTART;TZID=America/Los_Angeles:20230304T180000
DTEND;TZID=America/Los_Angeles:20230304T193000
DTSTAMP:20260423T021229
CREATED:20230223T231124Z
LAST-MODIFIED:20230302T231011Z
UID:2787-1677952800-1677958200@events.kion546.com
SUMMARY:Wine Blending for 2
DESCRIPTION:Taste\, blend\, create your own wine blend.  Take a bottle of your blend home!
URL:https://events.kion546.com/event/wine-blending-for-2-18/
LOCATION:Wine Experience\, 381 Cannery Row\, Monterey\, CA\, 93940\, United States
ATTACH;FMTTYPE=image/jpeg:https://events.kion546.com/wp-content/uploads/2023/02/744046755713426f263c966794575ddf-OSysLt.tmp_.jpg
END:VEVENT
BEGIN:VEVENT
DTSTART;TZID=America/Los_Angeles:20230304T173000
DTEND;TZID=America/Los_Angeles:20230304T190000
DTSTAMP:20260423T021229
CREATED:20230223T231124Z
LAST-MODIFIED:20230302T231010Z
UID:2786-1677951000-1677956400@events.kion546.com
SUMMARY:Wine Blending for 2
DESCRIPTION:Taste\, blend\, create your own wine blend.  Take a bottle of your blend home!
URL:https://events.kion546.com/event/wine-blending-for-2-17/
LOCATION:Wine Experience\, 381 Cannery Row\, Monterey\, CA\, 93940\, United States
ATTACH;FMTTYPE=image/jpeg:https://events.kion546.com/wp-content/uploads/2023/02/744046755713426f263c966794575ddf-OSysLt.tmp_.jpg
END:VEVENT
BEGIN:VEVENT
DTSTART;TZID=America/Los_Angeles:20230304T170000
DTEND;TZID=America/Los_Angeles:20230304T183000
DTSTAMP:20260423T021229
CREATED:20230223T231124Z
LAST-MODIFIED:20230302T231010Z
UID:2785-1677949200-1677954600@events.kion546.com
SUMMARY:Wine Blending for 2
DESCRIPTION:Taste\, blend\, create your own wine blend.  Take a bottle of your blend home!
URL:https://events.kion546.com/event/wine-blending-for-2-16/
LOCATION:Wine Experience\, 381 Cannery Row\, Monterey\, CA\, 93940\, United States
ATTACH;FMTTYPE=image/jpeg:https://events.kion546.com/wp-content/uploads/2023/02/744046755713426f263c966794575ddf-OSysLt.tmp_.jpg
END:VEVENT
BEGIN:VEVENT
DTSTART;TZID=America/Los_Angeles:20230304T163000
DTEND;TZID=America/Los_Angeles:20230304T180000
DTSTAMP:20260423T021229
CREATED:20230223T231124Z
LAST-MODIFIED:20230302T231010Z
UID:2784-1677947400-1677952800@events.kion546.com
SUMMARY:Wine Blending for 2
DESCRIPTION:Taste\, blend\, create your own wine blend.  Take a bottle of your blend home!
URL:https://events.kion546.com/event/wine-blending-for-2-15/
LOCATION:Wine Experience\, 381 Cannery Row\, Monterey\, CA\, 93940\, United States
ATTACH;FMTTYPE=image/jpeg:https://events.kion546.com/wp-content/uploads/2023/02/744046755713426f263c966794575ddf-OSysLt.tmp_.jpg
END:VEVENT
BEGIN:VEVENT
DTSTART;TZID=America/Los_Angeles:20230304T153000
DTEND;TZID=America/Los_Angeles:20230304T170000
DTSTAMP:20260423T021229
CREATED:20230223T231123Z
LAST-MODIFIED:20230302T231010Z
UID:2783-1677943800-1677949200@events.kion546.com
SUMMARY:Wine Blending for 2
DESCRIPTION:Taste\, blend\, create your own wine blend.  Take a bottle of your blend home!
URL:https://events.kion546.com/event/wine-blending-for-2-14/
LOCATION:Wine Experience\, 381 Cannery Row\, Monterey\, CA\, 93940\, United States
ATTACH;FMTTYPE=image/jpeg:https://events.kion546.com/wp-content/uploads/2023/02/744046755713426f263c966794575ddf-OSysLt.tmp_.jpg
END:VEVENT
BEGIN:VEVENT
DTSTART;TZID=America/Los_Angeles:20230304T150000
DTEND;TZID=America/Los_Angeles:20230304T163000
DTSTAMP:20260423T021229
CREATED:20230223T231123Z
LAST-MODIFIED:20230302T231010Z
UID:2782-1677942000-1677947400@events.kion546.com
SUMMARY:Wine Blending for 2
DESCRIPTION:Taste\, blend\, create your own wine blend.  Take a bottle of your blend home!
URL:https://events.kion546.com/event/wine-blending-for-2-13/
LOCATION:Wine Experience\, 381 Cannery Row\, Monterey\, CA\, 93940\, United States
ATTACH;FMTTYPE=image/jpeg:https://events.kion546.com/wp-content/uploads/2023/02/744046755713426f263c966794575ddf-OSysLt.tmp_.jpg
END:VEVENT
BEGIN:VEVENT
DTSTART;TZID=America/Los_Angeles:20230304T143000
DTEND;TZID=America/Los_Angeles:20230304T160000
DTSTAMP:20260423T021229
CREATED:20230223T231123Z
LAST-MODIFIED:20230302T231009Z
UID:2781-1677940200-1677945600@events.kion546.com
SUMMARY:Wine Blending for 2
DESCRIPTION:Taste\, blend\, create your own wine blend.  Take a bottle of your blend home!
URL:https://events.kion546.com/event/wine-blending-for-2-12/
LOCATION:Wine Experience\, 381 Cannery Row\, Monterey\, CA\, 93940\, United States
ATTACH;FMTTYPE=image/jpeg:https://events.kion546.com/wp-content/uploads/2023/02/744046755713426f263c966794575ddf-OSysLt.tmp_.jpg
END:VEVENT
BEGIN:VEVENT
DTSTART;TZID=America/Los_Angeles:20230304T140000
DTEND;TZID=America/Los_Angeles:20230304T153000
DTSTAMP:20260423T021229
CREATED:20230223T231123Z
LAST-MODIFIED:20230302T231009Z
UID:2780-1677938400-1677943800@events.kion546.com
SUMMARY:Wine Blending for 2
DESCRIPTION:Taste\, blend\, create your own wine blend.  Take a bottle of your blend home!
URL:https://events.kion546.com/event/wine-blending-for-2-11/
LOCATION:Wine Experience\, 381 Cannery Row\, Monterey\, CA\, 93940\, United States
ATTACH;FMTTYPE=image/jpeg:https://events.kion546.com/wp-content/uploads/2023/02/744046755713426f263c966794575ddf-OSysLt.tmp_.jpg
END:VEVENT
BEGIN:VEVENT
DTSTART;TZID=America/Los_Angeles:20230304T133000
DTEND;TZID=America/Los_Angeles:20230304T150000
DTSTAMP:20260423T021229
CREATED:20230223T231123Z
LAST-MODIFIED:20230302T231009Z
UID:2779-1677936600-1677942000@events.kion546.com
SUMMARY:Wine Blending for 2
DESCRIPTION:Taste\, blend\, create your own wine blend.  Take a bottle of your blend home!
URL:https://events.kion546.com/event/wine-blending-for-2-10/
LOCATION:Wine Experience\, 381 Cannery Row\, Monterey\, CA\, 93940\, United States
ATTACH;FMTTYPE=image/jpeg:https://events.kion546.com/wp-content/uploads/2023/02/744046755713426f263c966794575ddf-OSysLt.tmp_.jpg
END:VEVENT
BEGIN:VEVENT
DTSTART;TZID=America/Los_Angeles:20230304T130000
DTEND;TZID=America/Los_Angeles:20230304T143000
DTSTAMP:20260423T021229
CREATED:20230223T231123Z
LAST-MODIFIED:20230302T231009Z
UID:2778-1677934800-1677940200@events.kion546.com
SUMMARY:Wine Blending for 2
DESCRIPTION:Taste\, blend\, create your own wine blend.  Take a bottle of your blend home!
URL:https://events.kion546.com/event/wine-blending-for-2-9/
LOCATION:Wine Experience\, 381 Cannery Row\, Monterey\, CA\, 93940\, United States
ATTACH;FMTTYPE=image/jpeg:https://events.kion546.com/wp-content/uploads/2023/02/744046755713426f263c966794575ddf-OSysLt.tmp_.jpg
END:VEVENT
BEGIN:VEVENT
DTSTART;TZID=America/Los_Angeles:20230304T110000
DTEND;TZID=America/Los_Angeles:20230304T210000
DTSTAMP:20260423T021229
CREATED:20230201T205728Z
LAST-MODIFIED:20230201T205728Z
UID:2636-1677927600-1677963600@events.kion546.com
SUMMARY:One Team Scavenger Hunt Long Beach
DESCRIPTION:Puzzling Adventures™ are a cross between a scavenger hunt\, an adventure race\, and an informative self-guided tour.
URL:https://events.kion546.com/event/one-team-scavenger-hunt-long-beach-34/
LOCATION:Recommended Parking to Begin Adventure\, 100 Pacific Avenue\, Long Beach\, CA\, 90802\, United States
ATTACH;FMTTYPE=image/jpeg:https://events.kion546.com/wp-content/uploads/2023/01/504897daaa08485be8533be274f4db16-U56CQN.tmp_.jpg
END:VEVENT
BEGIN:VEVENT
DTSTART;TZID=America/New_York:20230304T110000
DTEND;TZID=America/New_York:20230304T210000
DTSTAMP:20260423T021229
CREATED:20230201T205506Z
LAST-MODIFIED:20230201T205506Z
UID:2587-1677927600-1677963600@events.kion546.com
SUMMARY:One Team Scavenger Hunt Pittsburgh
DESCRIPTION:Puzzling Adventures™ are a cross between a scavenger hunt\, an adventure race\, and an informative self-guided tour.
URL:https://events.kion546.com/event/one-team-scavenger-hunt-pittsburgh-34/
LOCATION:Recommended Parking to Begin Adventure\, 100 Pacific Avenue\, Long Beach\, CA\, 90802\, United States
ATTACH;FMTTYPE=image/jpeg:https://events.kion546.com/wp-content/uploads/2023/01/674d61436eaa226fabe78156a29d5aff-pMb2Bl.tmp_.jpg
END:VEVENT
BEGIN:VEVENT
DTSTART;TZID=America/Los_Angeles:20230304T110000
DTEND;TZID=America/Los_Angeles:20230304T210000
DTSTAMP:20260423T021229
CREATED:20230201T205353Z
LAST-MODIFIED:20230201T205353Z
UID:2538-1677927600-1677963600@events.kion546.com
SUMMARY:One Team Scavenger Hunt Huntington Beach
DESCRIPTION:Puzzling Adventures™ are a cross between a scavenger hunt\, an adventure race\, and an informative self-guided tour.
URL:https://events.kion546.com/event/one-team-scavenger-hunt-huntington-beach-34/
LOCATION:Recommended Parking to Begin Adventure\, 100 Pacific Avenue\, Long Beach\, CA\, 90802\, United States
ATTACH;FMTTYPE=image/jpeg:https://events.kion546.com/wp-content/uploads/2023/01/0e0a88e6d3a2d3e1c8040191771fef96-TyPSKf.tmp_.jpg
END:VEVENT
BEGIN:VEVENT
DTSTART;TZID=America/Los_Angeles:20230304T110000
DTEND;TZID=America/Los_Angeles:20230304T210000
DTSTAMP:20260423T021229
CREATED:20230201T205257Z
LAST-MODIFIED:20230201T205257Z
UID:2489-1677927600-1677963600@events.kion546.com
SUMMARY:One Team Scavenger Hunt Redding
DESCRIPTION:Puzzling Adventures™ are a cross between a scavenger hunt\, an adventure race\, and an informative self-guided tour.
URL:https://events.kion546.com/event/one-team-scavenger-hunt-redding-34/
LOCATION:Recommended Parking to Begin Adventure\, 100 Pacific Avenue\, Long Beach\, CA\, 90802\, United States
ATTACH;FMTTYPE=image/jpeg:https://events.kion546.com/wp-content/uploads/2023/01/100ac3b687413d992dc9b14bc6709bfa-85N3uw.tmp_.jpg
END:VEVENT
BEGIN:VEVENT
DTSTART;TZID=America/Los_Angeles:20230304T110000
DTEND;TZID=America/Los_Angeles:20230304T210000
DTSTAMP:20260423T021229
CREATED:20230201T205037Z
LAST-MODIFIED:20230201T205037Z
UID:2440-1677927600-1677963600@events.kion546.com
SUMMARY:One Team Scavenger Hunt Julian
DESCRIPTION:Puzzling Adventures™ are a cross between a scavenger hunt\, an adventure race\, and an informative self-guided tour.
URL:https://events.kion546.com/event/one-team-scavenger-hunt-julian-34/
LOCATION:Recommended Parking to Begin Adventure\, 100 Pacific Avenue\, Long Beach\, CA\, 90802\, United States
ATTACH;FMTTYPE=image/jpeg:https://events.kion546.com/wp-content/uploads/2023/01/cd27046425cca7bc8dc27ddc12d99ccf-N5lLc0.tmp_.jpg
END:VEVENT
BEGIN:VEVENT
DTSTART;TZID=America/Chicago:20230304T110000
DTEND;TZID=America/Chicago:20230304T210000
DTSTAMP:20260423T021229
CREATED:20230201T204857Z
LAST-MODIFIED:20230201T204857Z
UID:2391-1677927600-1677963600@events.kion546.com
SUMMARY:One Team Scavenger Hunt Jackson Tennessee
DESCRIPTION:Puzzling Adventures™ are a cross between a scavenger hunt\, an adventure race\, and an informative self-guided tour.
URL:https://events.kion546.com/event/one-team-scavenger-hunt-jackson-tennessee-34/
LOCATION:Recommended Parking to Begin Adventure\, 100 Pacific Avenue\, Long Beach\, CA\, 90802\, United States
ATTACH;FMTTYPE=image/jpeg:https://events.kion546.com/wp-content/uploads/2023/01/bf7dd2b039e4dbbc8f7e8490520413c8-CtJX6m.tmp_.jpg
END:VEVENT
BEGIN:VEVENT
DTSTART;TZID=America/Los_Angeles:20230304T110000
DTEND;TZID=America/Los_Angeles:20230304T210000
DTSTAMP:20260423T021229
CREATED:20230201T204807Z
LAST-MODIFIED:20230201T204807Z
UID:2342-1677927600-1677963600@events.kion546.com
SUMMARY:One Team Scavenger Hunt Santa Monica
DESCRIPTION:Puzzling Adventures™ are a cross between a scavenger hunt\, an adventure race\, and an informative self-guided tour.
URL:https://events.kion546.com/event/one-team-scavenger-hunt-santa-monica-84/
LOCATION:Recommended Parking to Begin Adventure\, 100 Pacific Avenue\, Long Beach\, CA\, 90802\, United States
ATTACH;FMTTYPE=image/jpeg:https://events.kion546.com/wp-content/uploads/2022/12/d5277a2612e04056491d7fe1305c3106-vfNcdi.tmp_.jpg
END:VEVENT
END:VCALENDAR