BEGIN:VCALENDAR
VERSION:2.0
PRODID:-//KION Community Events - ECPv6.15.20//NONSGML v1.0//EN
CALSCALE:GREGORIAN
METHOD:PUBLISH
X-WR-CALNAME:KION Community Events
X-ORIGINAL-URL:https://events.kion546.com
X-WR-CALDESC:Events for KION Community Events
REFRESH-INTERVAL;VALUE=DURATION:PT1H
X-Robots-Tag:noindex
X-PUBLISHED-TTL:PT1H
BEGIN:VTIMEZONE
TZID:America/Los_Angeles
BEGIN:DAYLIGHT
TZOFFSETFROM:-0800
TZOFFSETTO:-0700
TZNAME:PDT
DTSTART:20240310T100000
END:DAYLIGHT
BEGIN:STANDARD
TZOFFSETFROM:-0700
TZOFFSETTO:-0800
TZNAME:PST
DTSTART:20241103T090000
END:STANDARD
BEGIN:DAYLIGHT
TZOFFSETFROM:-0800
TZOFFSETTO:-0700
TZNAME:PDT
DTSTART:20250309T100000
END:DAYLIGHT
BEGIN:STANDARD
TZOFFSETFROM:-0700
TZOFFSETTO:-0800
TZNAME:PST
DTSTART:20251102T090000
END:STANDARD
BEGIN:DAYLIGHT
TZOFFSETFROM:-0800
TZOFFSETTO:-0700
TZNAME:PDT
DTSTART:20260308T100000
END:DAYLIGHT
BEGIN:STANDARD
TZOFFSETFROM:-0700
TZOFFSETTO:-0800
TZNAME:PST
DTSTART:20261101T090000
END:STANDARD
END:VTIMEZONE
BEGIN:VEVENT
DTSTART;TZID=America/Los_Angeles:20250927T100000
DTEND;TZID=America/Los_Angeles:20250927T140000
DTSTAMP:20260420T140827
CREATED:20250911T205229Z
LAST-MODIFIED:20250911T205229Z
UID:7638-1758967200-1758981600@events.kion546.com
SUMMARY:New Leaf Community Markets - River Street Grand Opening Sept. 27
DESCRIPTION:New Leaf will be opening its newest store at the corner of River Street and Highway 1 on September 27th! We are excited to continue the excitement and new features that debuted last Fall in the new Capitola store with a return to our sixth store and fourth in Santa Cruz County. To welcome the community into the new store\, we will host a family-friendly celebration on September 27 from 10 am-2 pm at the store with samples\, activities for kids\, and chances to win New Leaf gift cards throughout the event.
URL:https://events.kion546.com/event/new-leaf-community-markets-river-street-grand-opening-sept-27/
LOCATION:New Leaf Community Markets – River Street\, 650 River St\, Santa Cruz\, 95060-2729
CATEGORIES:Community,Food and Drink
ATTACH;FMTTYPE=image/jpeg:https://events.kion546.com/wp-content/uploads/2025/09/NLCM-River-Street-Opens-Sept-27_Store-Entrance-Rendering.jpg
ORGANIZER;CN="New Leaf Community Markets":MAILTO:info@newleaf.com
END:VEVENT
END:VCALENDAR