BEGIN:VCALENDAR
VERSION:2.0
PRODID:-//KION Community Events - ECPv6.15.20//NONSGML v1.0//EN
CALSCALE:GREGORIAN
METHOD:PUBLISH
X-ORIGINAL-URL:https://events.kion546.com
X-WR-CALDESC:Events for KION Community Events
REFRESH-INTERVAL;VALUE=DURATION:PT1H
X-Robots-Tag:noindex
X-PUBLISHED-TTL:PT1H
BEGIN:VTIMEZONE
TZID:America/Los_Angeles
BEGIN:DAYLIGHT
TZOFFSETFROM:-0800
TZOFFSETTO:-0700
TZNAME:PDT
DTSTART:20250309T100000
END:DAYLIGHT
BEGIN:STANDARD
TZOFFSETFROM:-0700
TZOFFSETTO:-0800
TZNAME:PST
DTSTART:20251102T090000
END:STANDARD
BEGIN:DAYLIGHT
TZOFFSETFROM:-0800
TZOFFSETTO:-0700
TZNAME:PDT
DTSTART:20260308T100000
END:DAYLIGHT
BEGIN:STANDARD
TZOFFSETFROM:-0700
TZOFFSETTO:-0800
TZNAME:PST
DTSTART:20261101T090000
END:STANDARD
BEGIN:DAYLIGHT
TZOFFSETFROM:-0800
TZOFFSETTO:-0700
TZNAME:PDT
DTSTART:20270314T100000
END:DAYLIGHT
BEGIN:STANDARD
TZOFFSETFROM:-0700
TZOFFSETTO:-0800
TZNAME:PST
DTSTART:20271107T090000
END:STANDARD
END:VTIMEZONE
BEGIN:VEVENT
DTSTART;TZID=America/Los_Angeles:20260418T110000
DTEND;TZID=America/Los_Angeles:20260418T140000
DTSTAMP:20260421T034308
CREATED:20260317T225413Z
LAST-MODIFIED:20260319T170909Z
UID:8532-1776510000-1776520800@events.kion546.com
SUMMARY:3rd Annual Moonflower Festival
DESCRIPTION:This free\, family-friendly community event offers a vibrant and joyful celebration of Asian American and Pacific Islander (AAPI) cultures through music\, dance\, art\, and cultural traditions. \nThe festival will feature dynamic performances by more than 100 artists representing a rich diversity of cultural traditions. Audiences can look forward to an inspiring lineup of performers\, including Shinsho Mugen Daiko (Japanese taiko drumming)\, Clarissa Bitar (Palestinian oud musician)\, Nā Haumāna (Polynesian music and dance)\, VietSteps (Vietnamese dance)\, and the Seaside High School Pacific Islanders Club Dancers. Each ensemble brings powerful storytelling to the stage through rhythm\, movement\, and cultural expression. \nBeyond the performances\, attendees will have the opportunity to explore artisan vendors\, community organization booths\, interactive art activities\, and a variety of food offerings. The Moonflower Festival is designed as a welcoming and inclusive space for people of all ages to connect\, learn\, and celebrate the richness of AAPI cultures.
URL:https://events.kion546.com/event/3rd-annual-moonflower-festival/
LOCATION:Seaside High School\, 2200 Noche Buena Street\, Seaside\, CA\, 93955\, United States
CATEGORIES:Community,Fairs and Festivals,Music
ATTACH;FMTTYPE=image/png:https://events.kion546.com/wp-content/uploads/2026/03/3RD-Moonflower-flyer-1.png
ORGANIZER;CN="Palenke Arts":MAILTO:jdiaz@palenkearts.org
END:VEVENT
END:VCALENDAR