BEGIN:VCALENDAR
VERSION:2.0
PRODID:-//KION Community Events - ECPv6.15.20//NONSGML v1.0//EN
CALSCALE:GREGORIAN
METHOD:PUBLISH
X-WR-CALNAME:KION Community Events
X-ORIGINAL-URL:https://events.kion546.com
X-WR-CALDESC:Events for KION Community Events
REFRESH-INTERVAL;VALUE=DURATION:PT1H
X-Robots-Tag:noindex
X-PUBLISHED-TTL:PT1H
BEGIN:VTIMEZONE
TZID:America/Los_Angeles
BEGIN:DAYLIGHT
TZOFFSETFROM:-0800
TZOFFSETTO:-0700
TZNAME:PDT
DTSTART:20250309T100000
END:DAYLIGHT
BEGIN:STANDARD
TZOFFSETFROM:-0700
TZOFFSETTO:-0800
TZNAME:PST
DTSTART:20251102T090000
END:STANDARD
BEGIN:DAYLIGHT
TZOFFSETFROM:-0800
TZOFFSETTO:-0700
TZNAME:PDT
DTSTART:20260308T100000
END:DAYLIGHT
BEGIN:STANDARD
TZOFFSETFROM:-0700
TZOFFSETTO:-0800
TZNAME:PST
DTSTART:20261101T090000
END:STANDARD
BEGIN:DAYLIGHT
TZOFFSETFROM:-0800
TZOFFSETTO:-0700
TZNAME:PDT
DTSTART:20270314T100000
END:DAYLIGHT
BEGIN:STANDARD
TZOFFSETFROM:-0700
TZOFFSETTO:-0800
TZNAME:PST
DTSTART:20271107T090000
END:STANDARD
END:VTIMEZONE
BEGIN:VEVENT
DTSTART;TZID=America/Los_Angeles:20260403T180000
DTEND;TZID=America/Los_Angeles:20260403T203000
DTSTAMP:20260423T071602
CREATED:20260312T223000Z
LAST-MODIFIED:20260312T223000Z
UID:8461-1775239200-1775248200@events.kion546.com
SUMMARY:Out of Plain Sight: Film Screening & Discussion with Director and L.A. Times Reporter Rosanna Xia
DESCRIPTION:A haunting tip prompts a Los Angeles Times reporter to discover that as many as half a million barrels of toxic waste had been dumped into the ocean\, just off the coast of Southern California.\n\nOut of Plain Sight:  Film Screening & Discussion\nSpeaker:  Director and L.A. Times Reporter Rosanna Xia\nFriday\, April 3\, 2026\n6:00pm to 8:30pm\nReception to follow\nIrvine Auditorium\nMiddlebury Institute of International Studies\n499 Pierce Street\, Monterey\, CA 93940 \nIn-person event\, registration requested\, but walk-ins welcome. \nREGISTER HERE\n\nAbout the Film\nFILM TRAILER:  OUT OF PLAIN SIGHT \n“Haunting\, enraging\, and a vital addition to environmental storytelling.”\n— Scott Z. Burns\, producer of An Inconvenient Truth \nFrom the Los Angeles Times and Pulitzer Prize-finalist Rosanna Xia\, OUT OF PLAIN SIGHT is a cinematic exposé of an environmental disaster lurking just off the coast of Southern California. \nNot far from Catalina Island\, aboard one of the most-advanced research ships in the world\, David Valentine discovered a corroded barrel on the seafloor that gave him chills. The full environmental horror sharpens into greater clarity once he calls Xia\, who pieces together a shocking revelation: In the years after World War II\, as many as half a million barrels of toxic waste had been quietly dumped into the ocean – and the consequences continue to haunt the world today. \n\n\n\n\n\nAbout the Speaker\nRosanna Xia is a Pulitzer Prize finalist and an environmental reporter for the Los Angeles Times\, where she specializes in stories about the coast and ocean. Her journalism has inspired new laws and regulations\, and her celebrated book\, “California Against the Sea\,” received the PEN/E.O. Wilson Literary Science Writing Award\, a gold medal from the California Book Awards\, and a special citation from the Library of Congress\, among other honors. She has been praised for her investigative reporting and narrative storytelling\, and her coverage of a toxic dumpsite in the deep ocean has been anthologized in the “Best American Science and Nature Writing” series.Xia’s latest project\, the feature documentary “Out of Plain Sight\,” which she directed and produced\, is a cinematic expansion of one of her most haunting environmental exposés. The film has received numerous film festival honors\, including the Audience Choice Award at the Santa Barbara International Film Festival and the Jackson Wild Media Award for Best Investigative Film. \nSchedule of Events\n5:00pm Check-in begins\n5:30pm Doors Open\n6:00pm Welcome and Introductions\n6:15pm  Film screening begins\n7:45pm  Q&A with Rosanna Xia\n8:30pm  Reception \nEvent Location: Irvine Auditorium\, McCone Building\nThe McCone Building is located at 499 Pierce Street\, Monterey\, CA\, 93940\, on the campus of the Middlebury Institute of International Studies. Attendees should enter through the glass doors from Pierce Street\, and the Irvine Auditorium is located inside to the left. View the campus map. \nRegistration\nThis is a free event\, open to the public.  Registration is requested via EventBrite—Out of Plain Sight REGISTER HERE.Walk-ins are also welcome. \nParking\nParking is available in any Middlebury Institute campus lot after 5 p.m.\, no parking permit required\, no fee.  View the campus map.  Free parking is also available on the street (time limits on surrounding streets end at 6 p.m.). \nEvent Sponsors\nThe sponsor and host of this event is the JEDI office.  The goal of the Justice\, Equity\, Diversity and Inclusion (JEDI) office at the Middlebury Institute of International Studies at Monterey is to be a reminder for the Institute’s mission “to educate professionals to advance understanding\, promote peace\, and drive change in pursuit of a more just world.” JEDI promotes Justice\, Equity\, Diversity\, and Inclusion as the Institute’s core values. \nThis event is co-hosted by the Center for the Blue Economy.  The Center for the Blue Economy is a research center at the Middlebury Institute of International Studies\, that provides economic and policy analysis to support the development of a robust and equitable blue economy for the 21st century. The Center uses the World Bank’s definition of the Blue Economy: the sustainable use of ocean resources for economic growth\, improved livelihoods and jobs\, and ocean ecosystem health. \nQuestions\nContact Rachel Christopherson at the Center for the Blue Economy at (831) 647-4183 or cbe@miis.edu
URL:https://events.kion546.com/event/out-of-plain-sight-film-screening-discussion-with-director-and-l-a-times-reporter-rosanna-xia/
LOCATION:CA
CATEGORIES:Community,Education,Other
ATTACH;FMTTYPE=image/jpeg:https://events.kion546.com/wp-content/uploads/2026/03/Out-of-Plain-Sight-Poster_RGB_x2400-scaled.jpg
ORGANIZER;CN="Center for the Blue Economy at MIIS":MAILTO:cbe@miis.edu
END:VEVENT
END:VCALENDAR