BEGIN:VCALENDAR
VERSION:2.0
PRODID:-//KION Community Events - ECPv6.15.20//NONSGML v1.0//EN
CALSCALE:GREGORIAN
METHOD:PUBLISH
X-WR-CALNAME:KION Community Events
X-ORIGINAL-URL:https://events.kion546.com
X-WR-CALDESC:Events for KION Community Events
REFRESH-INTERVAL;VALUE=DURATION:PT1H
X-Robots-Tag:noindex
X-PUBLISHED-TTL:PT1H
BEGIN:VTIMEZONE
TZID:America/Los_Angeles
BEGIN:DAYLIGHT
TZOFFSETFROM:-0800
TZOFFSETTO:-0700
TZNAME:PDT
DTSTART:20250309T100000
END:DAYLIGHT
BEGIN:STANDARD
TZOFFSETFROM:-0700
TZOFFSETTO:-0800
TZNAME:PST
DTSTART:20251102T090000
END:STANDARD
BEGIN:DAYLIGHT
TZOFFSETFROM:-0800
TZOFFSETTO:-0700
TZNAME:PDT
DTSTART:20260308T100000
END:DAYLIGHT
BEGIN:STANDARD
TZOFFSETFROM:-0700
TZOFFSETTO:-0800
TZNAME:PST
DTSTART:20261101T090000
END:STANDARD
BEGIN:DAYLIGHT
TZOFFSETFROM:-0800
TZOFFSETTO:-0700
TZNAME:PDT
DTSTART:20270314T100000
END:DAYLIGHT
BEGIN:STANDARD
TZOFFSETFROM:-0700
TZOFFSETTO:-0800
TZNAME:PST
DTSTART:20271107T090000
END:STANDARD
END:VTIMEZONE
BEGIN:VEVENT
DTSTART;TZID=America/Los_Angeles:20260101T080000
DTEND;TZID=America/Los_Angeles:20260207T170000
DTSTAMP:20260423T044739
CREATED:20251229T180746Z
LAST-MODIFIED:20251229T180746Z
UID:8067-1767254400-1770483600@events.kion546.com
SUMMARY:SOUPER BOWL SATURDAY
DESCRIPTION:We are proud to announce the first annual Souper Bowl Saturday\, a fundraiser benefitting Shuman HeartHouse and Casa de Noche Buena – Monterey County’s only homeless shelters for women and families. \nCommunity members are invited to enjoy world-famous clam chowder while supporting critical local services at Souper Bowl Saturday\, taking place on Saturday\, February 7\, 2026\, at Shuman HeartHouse in Monterey. \nThis community fundraiser features clam chowder from Old Fisherman’s Grotto and The Fish Hopper\, with all proceeds benefiting Shuman HeartHouse and Casa de Noche Buena\, programs that provide shelter and support to individuals experiencing homelessness in Monterey County. \nSouper Bowl Saturday is presented by Gathering for Women and Community Human Services. \nEach $40 takeout meal includes: \n\n16 oz. clam chowder\nSourdough bread\nPackaged salad\nDessert\n\nMeals must be pre-ordered by Friday\, January 30. Participants may select a drive-through pick-up window between 11:00 a.m. and 5:00 p.m. on February 7. \nDrive-through pick-up location:Shuman HeartHouseEnter at 300 E. Franklin Street and exit on Anthony Street \nFor tickets and additional information\, visit chservices.org/sbs \nThank you so much and please let me know if you have any questions!
URL:https://events.kion546.com/event/souper-bowl-saturday/
LOCATION:Shuman HeartHouse\, 600 E. Franklin St.\, Monterey\, 93940
CATEGORIES:Community,Food and Drink,Fundraisers and Galas
ATTACH;FMTTYPE=image/png:https://events.kion546.com/wp-content/uploads/2025/12/featuring.png
ORGANIZER;CN="Community Human Services":MAILTO:mallen@chservices.org
END:VEVENT
BEGIN:VEVENT
DTSTART;TZID=America/Los_Angeles:20260206T170000
DTEND;TZID=America/Los_Angeles:20260206T200000
DTSTAMP:20260423T044739
CREATED:20260116T201410Z
LAST-MODIFIED:20260116T201410Z
UID:8128-1770397200-1770408000@events.kion546.com
SUMMARY:First Friday Salinas
DESCRIPTION:This month is all about love\, community\, and connection. Come enjoy an evening of local art\, live entertainment\, delicious food\, and shops open late. It’s the perfect chance to gather with friends or find thoughtful gifts for your loved ones. \nBring your friends and family and discover something new every First Friday of the month — you won’t want to miss it! \nStay tuned for highlights from the special events and exhibitions happening this February. \nWhen & Where: \n\nEvery First Friday of the Month\nStarting at 5:00 PM\nLocation: Downtown Salinas\nOpening Ceremony: 5:00 PM – 6:00 PM\, at the One Main Street Stage (in front of the Steinbeck Center).
URL:https://events.kion546.com/event/first-friday-salinas/
LOCATION:Downtown Salinas\, 100 - 300 Main Street\, Salinas\, 93901
CATEGORIES:Art and Exhibits,Community,Fairs and Festivals
ATTACH;FMTTYPE=image/png:https://events.kion546.com/wp-content/uploads/2026/01/Feb-26-FFS-Flyer.png
ORGANIZER;CN="Arts Council for Monterey County":MAILTO:info@arts4mc.org
END:VEVENT
END:VCALENDAR