BEGIN:VCALENDAR
VERSION:2.0
PRODID:-//KION Community Events - ECPv6.15.20//NONSGML v1.0//EN
CALSCALE:GREGORIAN
METHOD:PUBLISH
X-WR-CALNAME:KION Community Events
X-ORIGINAL-URL:https://events.kion546.com
X-WR-CALDESC:Events for KION Community Events
REFRESH-INTERVAL;VALUE=DURATION:PT1H
X-Robots-Tag:noindex
X-PUBLISHED-TTL:PT1H
BEGIN:VTIMEZONE
TZID:America/Los_Angeles
BEGIN:DAYLIGHT
TZOFFSETFROM:-0800
TZOFFSETTO:-0700
TZNAME:PDT
DTSTART:20210314T100000
END:DAYLIGHT
BEGIN:STANDARD
TZOFFSETFROM:-0700
TZOFFSETTO:-0800
TZNAME:PST
DTSTART:20211107T090000
END:STANDARD
BEGIN:DAYLIGHT
TZOFFSETFROM:-0800
TZOFFSETTO:-0700
TZNAME:PDT
DTSTART:20220313T100000
END:DAYLIGHT
BEGIN:STANDARD
TZOFFSETFROM:-0700
TZOFFSETTO:-0800
TZNAME:PST
DTSTART:20221106T090000
END:STANDARD
BEGIN:DAYLIGHT
TZOFFSETFROM:-0800
TZOFFSETTO:-0700
TZNAME:PDT
DTSTART:20230312T100000
END:DAYLIGHT
BEGIN:STANDARD
TZOFFSETFROM:-0700
TZOFFSETTO:-0800
TZNAME:PST
DTSTART:20231105T090000
END:STANDARD
BEGIN:DAYLIGHT
TZOFFSETFROM:-0800
TZOFFSETTO:-0700
TZNAME:PDT
DTSTART:20240310T100000
END:DAYLIGHT
BEGIN:STANDARD
TZOFFSETFROM:-0700
TZOFFSETTO:-0800
TZNAME:PST
DTSTART:20241103T090000
END:STANDARD
BEGIN:DAYLIGHT
TZOFFSETFROM:-0800
TZOFFSETTO:-0700
TZNAME:PDT
DTSTART:20250309T100000
END:DAYLIGHT
BEGIN:STANDARD
TZOFFSETFROM:-0700
TZOFFSETTO:-0800
TZNAME:PST
DTSTART:20251102T090000
END:STANDARD
BEGIN:DAYLIGHT
TZOFFSETFROM:-0800
TZOFFSETTO:-0700
TZNAME:PDT
DTSTART:20260308T100000
END:DAYLIGHT
BEGIN:STANDARD
TZOFFSETFROM:-0700
TZOFFSETTO:-0800
TZNAME:PST
DTSTART:20261101T090000
END:STANDARD
BEGIN:DAYLIGHT
TZOFFSETFROM:-0800
TZOFFSETTO:-0700
TZNAME:PDT
DTSTART:20270314T100000
END:DAYLIGHT
BEGIN:STANDARD
TZOFFSETFROM:-0700
TZOFFSETTO:-0800
TZNAME:PST
DTSTART:20271107T090000
END:STANDARD
END:VTIMEZONE
BEGIN:VEVENT
DTSTART;TZID=America/Los_Angeles:20260321T190000
DTEND;TZID=America/Los_Angeles:20260321T210000
DTSTAMP:20260423T032524
CREATED:20260217T154723Z
LAST-MODIFIED:20260217T154723Z
UID:8286-1774119600-1774126800@events.kion546.com
SUMMARY:Controlled Chaos Improv at Stanton Center!
DESCRIPTION:Come out for a night of fun with Controlled Chaos Improv at Stanton Center! Controlled Chaos Improv puts their own twist on traditional improvisational theatre. Quick wit and spontaneous energy are combined with truth in comedy to bring something fresh and fun to the stage! Fueled by audience suggestions\, Controlled Chaos will create unpredictable and comedic scenes on the spot. So\, grab your friends and join us for an evening you won’t soon forget! A good time is guaranteed for all. You may pay for a whole seat\, but watch as these improvisers keep you on the edge of it! 16+
URL:https://events.kion546.com/event/controlled-chaos-improv-at-stanton-center/
LOCATION:Monterey History & Art Association at Stanton Center\, 5 Cusom Plaza\, Monterey\, 93940
CATEGORIES:Comedy,Community,Theater
ATTACH;FMTTYPE=image/jpeg:https://events.kion546.com/wp-content/uploads/2026/02/Starfish-Controlled-Chaos-1-1-scaled.jpeg
ORGANIZER;CN="Comedy Variety Showcase":MAILTO:comedyvarietyshowcase@gmail.com
END:VEVENT
BEGIN:VEVENT
DTSTART;TZID=America/Los_Angeles:20260213T190000
DTEND;TZID=America/Los_Angeles:20260213T210000
DTSTAMP:20260423T032524
CREATED:20260202T192704Z
LAST-MODIFIED:20260202T192704Z
UID:8205-1771009200-1771016400@events.kion546.com
SUMMARY:Controlled Chaos Improv at the Pacific Grove Art Center!
DESCRIPTION:Do you hate Valentine’s Day because it feels forced and commercialized? Why not add something unexpected to your Valentine’s plans? Come see Controlled Chaos Improv at the Pacific Grove Art Center! This is a Valentine’s Day experience that doesn’t take itself too seriously. Fueled by audience suggestions\, Controlled Chaos Improv will create unpredictable and comedic scenes on the spot. So\, whether you’re single\, making questionable dating decisions\, coupled up\, or “it’s complicated\,” Controlled Chaos Improv will make it a night of fun! Sweets and drinks included.
URL:https://events.kion546.com/event/controlled-chaos-improv-at-the-pacific-grove-art-center-4/
LOCATION:Pacific Grove Art Center (PGAC)\, 568 Lighthouse Avenue\, Pacific Grove\, 93950
CATEGORIES:Comedy,Community,Theater
ATTACH;FMTTYPE=image/jpeg:https://events.kion546.com/wp-content/uploads/2026/02/Starfish-Controlled-Chaos--scaled.jpeg
ORGANIZER;CN="Comedy Variety Showcase":MAILTO:comedyvarietyshowcase@gmail.com
END:VEVENT
BEGIN:VEVENT
DTSTART;TZID=America/Los_Angeles:20260124T190000
DTEND;TZID=America/Los_Angeles:20260124T210000
DTSTAMP:20260423T032524
CREATED:20251229T154840Z
LAST-MODIFIED:20251229T154840Z
UID:8060-1769281200-1769288400@events.kion546.com
SUMMARY:Controlled Chaos Improv at California's First Theatre!
DESCRIPTION:Controlled Chaos Improv is back at Monterey’s legendary historical landmark\, California’s First Theatre! These talented improvisers will create hilarious scenes on the spot based entirely on audience suggestions. Don’t miss the chance to experience the magic of improv–every show is different and the laughter is guaranteed.  \n 
URL:https://events.kion546.com/event/controlled-chaos-improv-at-californias-first-theatre-2/
LOCATION:California’s First Theatre\, 439 Scott Street\, Monterey\, 93940
CATEGORIES:Comedy,Community,Theater
ATTACH;FMTTYPE=image/jpeg:https://events.kion546.com/wp-content/uploads/2025/12/7D8CAFB1-8CF6-45CC-998D-B66FCC48A82FDSC04534-scaled.jpeg
ORGANIZER;CN="Comedy Variety Showcase":MAILTO:comedyvarietyshowcase@gmail.com
END:VEVENT
BEGIN:VEVENT
DTSTART;TZID=America/Los_Angeles:20251107T190000
DTEND;TZID=America/Los_Angeles:20251107T210000
DTSTAMP:20260423T032524
CREATED:20251013T161746Z
LAST-MODIFIED:20251013T161746Z
UID:7853-1762542000-1762549200@events.kion546.com
SUMMARY:Controlled Chaos Improv at the Indoor Forest Theatre!
DESCRIPTION:Looking for a night of laughs and surprises? Come check out Controlled Chaos Improv at the Indoor Forest Theatre! Watch our improvisers create hilarious scenes on the spot based entirely on your suggestions. Don’t miss the chance to experience the magic of improv–every show is different and the laughter is guaranteed. 
URL:https://events.kion546.com/event/controlled-chaos-improv-at-the-indoor-forest-theatre/
LOCATION:Indoor Forest Theatre\, Mountain View Ave. & Santa Rita St.\, Carmel\, 93921
CATEGORIES:Comedy,Community,Theater
ATTACH;FMTTYPE=image/jpeg:https://events.kion546.com/wp-content/uploads/2025/10/7D8CAFB1-8CF6-45CC-998D-B66FCC48A82FDSC04534-scaled.jpeg
ORGANIZER;CN="Comedy Variety Showcase":MAILTO:comedyvarietyshowcase@gmail.com
END:VEVENT
BEGIN:VEVENT
DTSTART;TZID=America/Los_Angeles:20251003T190000
DTEND;TZID=America/Los_Angeles:20251003T210000
DTSTAMP:20260423T032524
CREATED:20250915T152940Z
LAST-MODIFIED:20250915T152940Z
UID:7683-1759518000-1759525200@events.kion546.com
SUMMARY:Controlled Chaos Improv at California's First Theatre!
DESCRIPTION:Join Controlled Chaos Improv at Monterey’s legendary historical landmark\, California’s First Theatre! In the autumn of 1847\, the adobe was converted into a theater to perform comedic skits. Now\, 178 years later\, Controlled Chaos Improv brings comedy back to California’s First Theatre! These talented improvisers will create hilarious scenes on the spot based entirely on audience suggestions. Don’t miss your chance to experience the first comedy improv performance at California’s First Theatre in almost two centuries! This historic event will connect the comedic fun of the present with the theatrical magic of the past.​
URL:https://events.kion546.com/event/controlled-chaos-improv-at-californias-first-theatre/
LOCATION:California’s First Theatre\, 439 Scott Street\, Monterey\, 93940
CATEGORIES:Comedy,Community,Theater
ATTACH;FMTTYPE=image/png:https://events.kion546.com/wp-content/uploads/2025/09/CFT_Flyer10325.png
ORGANIZER;CN="Comedy Variety Showcase":MAILTO:comedyvarietyshowcase@gmail.com
END:VEVENT
BEGIN:VEVENT
DTSTART;TZID=America/Los_Angeles:20250906T190000
DTEND;TZID=America/Los_Angeles:20250906T203000
DTSTAMP:20260423T032524
CREATED:20250825T212515Z
LAST-MODIFIED:20250825T212515Z
UID:7550-1757185200-1757190600@events.kion546.com
SUMMARY:Controlled Chaos Improv at the Pacific Grove Art Center!
DESCRIPTION:Get ready for a night of non-stop laughter and unpredictable fun at the Pacific Grove Art Center! Controlled Chaos Improv puts their own twist on traditional improvisational theatre. Quick wit and spontaneous energy are combined with truth in comedy to bring something fresh and fun to the stage! Grab your friends and join us for an evening you won’t soon forget! A good time is guaranteed for all. You may pay for a whole seat\, but watch as these improvisers keep you on the edge of it! 16+
URL:https://events.kion546.com/event/controlled-chaos-improv-at-the-pacific-grove-art-center-3/
LOCATION:Pacific Grove Art Center (PGAC)\, 568 Lighthouse Avenue\, Pacific Grove\, 93950
CATEGORIES:Comedy,Community,Theater
ATTACH;FMTTYPE=image/jpeg:https://events.kion546.com/wp-content/uploads/2025/08/7D8CAFB1-8CF6-45CC-998D-B66FCC48A82FDSC04534-scaled.jpeg
ORGANIZER;CN="Comedy Variety Showcase":MAILTO:comedyvarietyshowcase@gmail.com
END:VEVENT
BEGIN:VEVENT
DTSTART;TZID=America/Los_Angeles:20250823T190000
DTEND;TZID=America/Los_Angeles:20250823T213000
DTSTAMP:20260423T032524
CREATED:20250707T183518Z
LAST-MODIFIED:20250819T172015Z
UID:6885-1755975600-1755984600@events.kion546.com
SUMMARY:Comedy Variety Showcase!
DESCRIPTION:Comedy Variety Showcase is back! \nAttention comedy lovers! Come watch some of the best local comedic acts performing various styles of comedy such as stand up\, sketch\, improv\, stories and more. We can all use a good laugh these days.  \n 
URL:https://events.kion546.com/event/comedy-variety-showcase-2/
LOCATION:Monterey History & Art Association at Stanton Center\, 5 Cusom Plaza\, Monterey\, 93940
CATEGORIES:Comedy
ATTACH;FMTTYPE=image/jpeg:https://events.kion546.com/wp-content/uploads/2025/06/StalkerPhoto.jpeg
ORGANIZER;CN="Comedy Variety Showcase":MAILTO:comedyvarietyshowcase@gmail.com
END:VEVENT
BEGIN:VEVENT
DTSTART;TZID=America/Los_Angeles:20250228T193000
DTEND;TZID=America/Los_Angeles:20250228T213000
DTSTAMP:20260423T032524
CREATED:20250204T222646Z
LAST-MODIFIED:20250204T222646Z
UID:5881-1740771000-1740778200@events.kion546.com
SUMMARY:Controlled Chaos Improv!
DESCRIPTION:Get ready for a night of non-stop laughter and unpredictable fun at Wave Street Studios. Controlled Chaos Improv puts their own twist on traditional improvisational theatre. Quick wit and spontaneous energy are combined with truth in comedy to bring something fresh and fun to the stage! Grab your friends and join us for an evening you won’t soon forget! \n  \n  \n  \n 
URL:https://events.kion546.com/event/controlled-chaos-improv-3/
LOCATION:Wave Street Studios\, 774 Wave Street\, Monterey\, 93940
CATEGORIES:Comedy,Community,Theater
ATTACH;FMTTYPE=image/jpeg:https://events.kion546.com/wp-content/uploads/2025/02/7D8CAFB1-8CF6-45CC-998D-B66FCC48A82FDSC04534-1-scaled.jpeg
ORGANIZER;CN="Comedy Variety Showcase":MAILTO:comedyvarietyshowcase@gmail.com
END:VEVENT
BEGIN:VEVENT
DTSTART;TZID=America/Los_Angeles:20250125T190000
DTEND;TZID=America/Los_Angeles:20250125T210000
DTSTAMP:20260423T032524
CREATED:20241227T171646Z
LAST-MODIFIED:20241227T171646Z
UID:5529-1737831600-1737838800@events.kion546.com
SUMMARY:Controlled Chaos at Stanton Center!
DESCRIPTION:Get ready for a night of non-stop laughter and unpredictable fun at the Monterey History & Art at Stanton Center. Controlled Chaos Improv puts their own twist on traditional improvisational theatre. Quick wit and spontaneous energy are combined with truth in comedy to bring something fresh and fun to the stage! Grab your friends and join us for an evening you won’t soon forget!
URL:https://events.kion546.com/event/controlled-chaos-at-stanton-center/
LOCATION:Monterey History & Art Association at Stanton Center\, 5 Cusom Plaza\, Monterey\, 93940
CATEGORIES:Comedy,Community,Theater
ATTACH;FMTTYPE=image/jpeg:https://events.kion546.com/wp-content/uploads/2024/12/7D8CAFB1-8CF6-45CC-998D-B66FCC48A82FDSC04534-scaled.jpeg
ORGANIZER;CN="Comedy Variety Showcase":MAILTO:comedyvarietyshowcase@gmail.com
END:VEVENT
BEGIN:VEVENT
DTSTART;TZID=America/Los_Angeles:20241116T190000
DTEND;TZID=America/Los_Angeles:20241116T210000
DTSTAMP:20260423T032524
CREATED:20241108T183701Z
LAST-MODIFIED:20241108T183701Z
UID:5336-1731783600-1731790800@events.kion546.com
SUMMARY:Controlled Chaos Improv!
DESCRIPTION:Looking for a night of laughs and surprises? Come check out Controlled Chaos Improv at the Pacific Grove Art Center. Watch our improvisers create hilarious scenes on the spot based entirely on your suggestions. Don’t miss the chance to experience the magic of improv–every show is different and the laughter is guaranteed. 
URL:https://events.kion546.com/event/controlled-chaos-improv-2/
LOCATION:Pacific Grove Art Center (PGAC)\, 568 Lighthouse Avenue\, Pacific Grove\, 93950
CATEGORIES:Comedy,Community,Theater
ATTACH;FMTTYPE=image/jpeg:https://events.kion546.com/wp-content/uploads/2024/11/Starfish-Controlled-Chaos--scaled.jpeg
ORGANIZER;CN="Comedy Variety Showcase":MAILTO:comedyvarietyshowcase@gmail.com
END:VEVENT
BEGIN:VEVENT
DTSTART;TZID=America/Los_Angeles:20240608T190000
DTEND;TZID=America/Los_Angeles:20240608T210000
DTSTAMP:20260423T032524
CREATED:20240513T155951Z
LAST-MODIFIED:20240513T155951Z
UID:4300-1717873200-1717880400@events.kion546.com
SUMMARY:Controlled Chaos Improv at the Pacific Grove Art Center!
DESCRIPTION:We can all use a good laugh these days! Come watch “Controlled Chaos” put their own twist on traditional improv. Quick wit and spontaneous energy is combined with truth in comedy to bring something fresh to the stage! A good time is guaranteed for all. You may pay for a whole seat\, but watch as these improvisers keep you on the edge of it! \n 
URL:https://events.kion546.com/event/controlled-chaos-improv-at-the-pacific-grove-art-center-2/
LOCATION:Pacific Grove Art Center (PGAC)\, 568 Lighthouse Avenue\, Pacific Grove\, 93950
CATEGORIES:Comedy,Community,Theater
ATTACH;FMTTYPE=image/jpeg:https://events.kion546.com/wp-content/uploads/2024/05/Controlled-Chaos-at-the-PGAC.jpeg
ORGANIZER;CN="Comedy Variety Showcase":MAILTO:comedyvarietyshowcase@gmail.com
END:VEVENT
BEGIN:VEVENT
DTSTART;TZID=America/Los_Angeles:20240608T190000
DTEND;TZID=America/Los_Angeles:20240608T210000
DTSTAMP:20260423T032524
CREATED:20240415T170304Z
LAST-MODIFIED:20240415T170304Z
UID:4216-1717873200-1717880400@events.kion546.com
SUMMARY:Controlled Chaos Improv!
DESCRIPTION:“Controlled Chaos” Improv puts their own twist on traditional improvisational theatre. Quick wit and spontaneous energy is combined with truth in comedy to bring something fresh and fun to the stage! A good time is guaranteed for all. We can all use a good laugh these days! You may pay for a whole seat\, but watch as these improvisers keep you on the edge of it!  16+ \nTickets: https://www.eventbrite.com/e/controlled-chaos-comedy-improv-show-tickets-883179412397?aff=oddtdtcreator \n 
URL:https://events.kion546.com/event/controlled-chaos-improv/
LOCATION:pacific Grove Art Center\, 568 Lighthouse Avenue\, Pacific Grove\, 93950
CATEGORIES:Comedy,Community,Theater
ATTACH;FMTTYPE=image/jpeg:https://events.kion546.com/wp-content/uploads/2024/04/Controlled-Chaos-1-scaled.jpeg
ORGANIZER;CN="Comedy Variety Showcase":MAILTO:comedyvarietyshowcase@gmail.com
END:VEVENT
BEGIN:VEVENT
DTSTART;TZID=America/Los_Angeles:20240607T193000
DTEND;TZID=America/Los_Angeles:20240607T213000
DTSTAMP:20260423T032524
CREATED:20240513T155911Z
LAST-MODIFIED:20240513T155911Z
UID:4297-1717788600-1717795800@events.kion546.com
SUMMARY:Controlled Chaos Improv at Wave Street Studios!
DESCRIPTION:We can all use a good laugh these days! Come watch “Controlled Chaos” put their own twist on traditional improv. Quick wit and spontaneous energy is combined with truth in comedy to bring something fresh to the stage! A good time is guaranteed for all. You may pay for a whole seat\, but watch as these improvisers keep you on the edge of it! \n 
URL:https://events.kion546.com/event/controlled-chaos-improv-at-wave-street-studios/
LOCATION:Wave Street Studios\, 774 Wave Street\, Monterey\, 93940
CATEGORIES:Comedy,Community,Food and Drink,Theater
ATTACH;FMTTYPE=image/png:https://events.kion546.com/wp-content/uploads/2024/05/CC_WaveStreetStudios.png
ORGANIZER;CN="Comedy Variety Showcase":MAILTO:comedyvarietyshowcase@gmail.com
END:VEVENT
BEGIN:VEVENT
DTSTART;TZID=America/Los_Angeles:20231021T190000
DTEND;TZID=America/Los_Angeles:20231021T210000
DTSTAMP:20260423T032524
CREATED:20231002T155245Z
LAST-MODIFIED:20231002T155245Z
UID:3568-1697914800-1697922000@events.kion546.com
SUMMARY:Comedy Variety Showcase Presents "Controlled Chaos" Improv!
DESCRIPTION:For Immediate Release \nComedy Variety Showcase Presents\n“Controlled Chaos” Improv\nIntroducing something new! Comedy Variety Showcase presents “Controlled Chaos” improv. “Controlled Chaos” puts their own twist on traditional improvisational theatre. Quick wit and spontaneous energy is combined with truth in comedy to bring something fresh and fun to the stage! (16+ Some material may not be suitable for children.)  \nShow Date: Saturday\, October 21\, 2023  7-9pm  \nMonterey History & Art Association at Stanton Center \n5 Custom House Plaza\, Monterey\, CA 93940 \nGeneral Admission: $20/$30 \nTickets: \nhttps://www.eventbrite.com/e/controlled-chaos-improv-tickets-714295817017?aff=oddtdtcreator  \nFor more information contact Maria Dawson (831) 646-1188 \ncomedyvarietyshowcase@gmail.com \nhttps://www.comedyvarietyshowcase.com \nMaria Dawson\, Director/Producer \nComedy Variety Showcase features local comedic acts and embraces every style of comedy performance such as stand-up\, sketch\, improv\, monologues and more. \nComedy Variety Showcase Mission Statement \nTo inspire\, create\, and deliver entertaining comedy experiences in an intimate theatre setting.   \n 
URL:https://events.kion546.com/event/comedy-variety-showcase-presents-controlled-chaos-improv/
LOCATION:Monterey History & Art Association at Stanton Center\, 5 Cusom Plaza\, Monterey\, 93940
CATEGORIES:Comedy,Community,Theater
ATTACH;FMTTYPE=image/jpeg:https://events.kion546.com/wp-content/uploads/2023/10/image_6487327-4.jpg
ORGANIZER;CN="Comedy Variety Showcase":MAILTO:comedyvarietyshowcase@gmail.com
END:VEVENT
BEGIN:VEVENT
DTSTART;TZID=America/Los_Angeles:20230722T190000
DTEND;TZID=America/Los_Angeles:20230722T213000
DTSTAMP:20260423T032524
CREATED:20230605T160210Z
LAST-MODIFIED:20230605T160210Z
UID:3130-1690052400-1690061400@events.kion546.com
SUMMARY:Comedy Variety Showcase
DESCRIPTION:Comedy Variety Showcase! \nComedy Variety Showcase highlights local comedic performers and various styles of comedy. Need a good laugh? Interested in a fun night of sketch comedy? Stand up? Improv? Why pick one when you can have them all!  Check out Comedy Variety Showcase on July 22nd at the Monterey History and Art Association at Stanton Center for a little bit of everything! \n 
URL:https://events.kion546.com/event/comedy-variety-showcase/
LOCATION:Monterey History & Art Association at Stanton Center\, 5 Cusom Plaza\, Monterey\, 93940
CATEGORIES:Comedy,Theater
ATTACH;FMTTYPE=image/jpeg:https://events.kion546.com/wp-content/uploads/2023/05/StalkerPhoto.jpeg
END:VEVENT
BEGIN:VEVENT
DTSTART;TZID=America/Los_Angeles:20220227T080000
DTEND;TZID=America/Los_Angeles:20220227T170000
DTSTAMP:20260423T032524
CREATED:20220225T184537Z
LAST-MODIFIED:20220225T184537Z
UID:285-1645948800-1645981200@events.kion546.com
SUMMARY:Test 1 Test Event
DESCRIPTION:Test 1 Test Event
URL:https://events.kion546.com/event/test-1-test-event/
LOCATION:846 Front St\, 846 Front Street\, Santa Cruz\, CA\, 95060\, United States
CATEGORIES:Comedy
END:VEVENT
END:VCALENDAR