BEGIN:VCALENDAR
VERSION:2.0
PRODID:-//KION Community Events - ECPv6.15.20//NONSGML v1.0//EN
CALSCALE:GREGORIAN
METHOD:PUBLISH
X-WR-CALNAME:KION Community Events
X-ORIGINAL-URL:https://events.kion546.com
X-WR-CALDESC:Events for KION Community Events
REFRESH-INTERVAL;VALUE=DURATION:PT1H
X-Robots-Tag:noindex
X-PUBLISHED-TTL:PT1H
BEGIN:VTIMEZONE
TZID:America/Los_Angeles
BEGIN:DAYLIGHT
TZOFFSETFROM:-0800
TZOFFSETTO:-0700
TZNAME:PDT
DTSTART:20240310T100000
END:DAYLIGHT
BEGIN:STANDARD
TZOFFSETFROM:-0700
TZOFFSETTO:-0800
TZNAME:PST
DTSTART:20241103T090000
END:STANDARD
BEGIN:DAYLIGHT
TZOFFSETFROM:-0800
TZOFFSETTO:-0700
TZNAME:PDT
DTSTART:20250309T100000
END:DAYLIGHT
BEGIN:STANDARD
TZOFFSETFROM:-0700
TZOFFSETTO:-0800
TZNAME:PST
DTSTART:20251102T090000
END:STANDARD
BEGIN:DAYLIGHT
TZOFFSETFROM:-0800
TZOFFSETTO:-0700
TZNAME:PDT
DTSTART:20260308T100000
END:DAYLIGHT
BEGIN:STANDARD
TZOFFSETFROM:-0700
TZOFFSETTO:-0800
TZNAME:PST
DTSTART:20261101T090000
END:STANDARD
END:VTIMEZONE
BEGIN:VEVENT
DTSTART;TZID=America/Los_Angeles:20250910T140000
DTEND;TZID=America/Los_Angeles:20250920T200000
DTSTAMP:20260419T060514
CREATED:20250808T162040Z
LAST-MODIFIED:20250808T162040Z
UID:6680-1757512800-1758398400@events.kion546.com
SUMMARY:Santa Cruz Shakespeare's "Master Harold"... and The Boys
DESCRIPTION:Santa Cruz Shakespeare invites you to experience Athol Fugard’s “Master Harold”…and The Boys\, under the trees and stars of the Audrey Stanley Grove in Santa Cruz’s DeLaveaga Park this September.  \nSet in the apartheid era of South Africa\, we find ourselves in the tea shop of Harold’s family. Young Hally\, who is white\, spends the afternoon after school in the shop with two of the family’s servants\, Sam and Willie\, who are black. Over the course of 90 minutes\, we bear witness to the shifting relationship between all of them; a relationship built both on love and respect\, as well as one built on bigotry and institutionalized racism. Fugard’s autobiographical masterpiece is both joyous and brutal\, with an ending that will leave you both stunned and inspired.   \nPlaywright Fugard’s death in March of this year was a loss to Santa Cruz Shakespeare and the larger theatre community. SCS is especially grateful to produce Fugard’s work this year and honor his legacy.  \n“Master Harold”… and The Boys runs September 4 through September 20\, with Opening Night on September 5.  \nTickets available for purchase starting May 1. More information at santacruzshakespeare.org/season-2025  \nSeasonal box office hours are Tuesday through Friday from 12p.m. to 4p.m. beginning May 1. Call 831-460-6399.   \nAbout Santa Cruz Shakespeare  \nFeaturing professional actors from around the country and inspired by deep local roots that go back more than 40 years\, Santa Cruz Shakespeare stages bold productions of the plays of Shakespeare and other great playwrights that stimulate audiences’ senses and spark their imagination. ShakesEDU\, a program of Santa Cruz Shakespeare\, provides students with opportunities to learn about theatre through after-school classes\, summer intensive\, traveling troupe and more. For more information about SCS\, visit santacruzshakespeare.org. 
URL:https://events.kion546.com/event/santa-cruz-shakespeares-master-harold-and-the-boys/
LOCATION:Audrey Stanley Grove at Delaveaga\, 501 Upper Park Road\, Santa Cruz\, CA\, 95065\, United States
CATEGORIES:Theater
ATTACH;FMTTYPE=image/png:https://events.kion546.com/wp-content/uploads/2025/05/825x550-3.png
ORGANIZER;CN="santa cruz shakespeare":MAILTO:info@santacruzshakespeare.org
END:VEVENT
BEGIN:VEVENT
DTSTART;TZID=America/Los_Angeles:20250920T110000
DTEND;TZID=America/Los_Angeles:20250920T150000
DTSTAMP:20260419T060514
CREATED:20250818T205801Z
LAST-MODIFIED:20250818T205801Z
UID:7297-1758366000-1758380400@events.kion546.com
SUMMARY:Marina Multi-Cultural Festival
DESCRIPTION:Marina Multicultural Festival! \nJoin us for a vibrant celebration of culture & community! \nSaturday\, September 20\, 2025 | 11 AM – 3 PM \nVince DiMaggio Park 3200 Del Monte Blvd. Marina\, CA 93933 \n✨ LIVE Performances \n🍽 Delicious Cuisine \n🌎 Cultural Booths \n🎨 Hands-On Activities \n👨‍👩‍👧‍👦 Family-Friendly Fun \nCome experience the richness of our diverse community!
URL:https://events.kion546.com/event/marina-multi-cultural-festival/
LOCATION:Vince DiMagio Park\, 3200 Del Monte Ave.\, Marina\, CA\, 93933\, United States
CATEGORIES:Fairs and Festivals
ATTACH;FMTTYPE=image/png:https://events.kion546.com/wp-content/uploads/2025/08/Multicultural-event-2025.png
ORGANIZER;CN="City of Marina":MAILTO:bdelgado62@gmail.com
END:VEVENT
BEGIN:VEVENT
DTSTART;TZID=America/Los_Angeles:20250920T120000
DTEND;TZID=America/Los_Angeles:20250920T160000
DTSTAMP:20260419T060514
CREATED:20250904T154954Z
LAST-MODIFIED:20250904T154954Z
UID:7537-1758369600-1758384000@events.kion546.com
SUMMARY:Oktoberfest Santa Cruz
DESCRIPTION:Oktoberfest Santa Cruz is the longest running independent-neighborhood  Oktoberfest event in Santa Cruz County.  We are celebrating our 26th Anniversary this year! \nOktoberfest Santa Cruz is a celebration of German-Bavarian culture. We are a family friendly event\, come and enjoy……. \n* Variety of homemade German foods. \n* Lots of family and children activities including a huge Jump House! \n* Largest selection of German beers and wines. \n* Live polka music from The Thirsty Nine! \n  \nAdmission is FREE! Adult meal tickets are $20. Children’s meals (ages 12 and under) are free. \n831-423-8330 \nwww.oktoberfestsantacruz.com
URL:https://events.kion546.com/event/oktoberfest-santa-cruz-2/
CATEGORIES:Fairs and Festivals
ATTACH;FMTTYPE=image/png:https://events.kion546.com/wp-content/uploads/2025/08/4c7c76a8-6643-4b4b-9d16-5744f5f550a1-1.png
END:VEVENT
BEGIN:VEVENT
DTSTART;TZID=America/Los_Angeles:20250920T160000
DTEND;TZID=America/Los_Angeles:20250920T210000
DTSTAMP:20260419T060514
CREATED:20250707T184019Z
LAST-MODIFIED:20250707T184019Z
UID:7056-1758384000-1758402000@events.kion546.com
SUMMARY:Relay For Life of the Salinas Valley
DESCRIPTION:Relay For Life is a heartwarming event remembering those we’ve lost and honoring survivors. Join us for a memorable evening filled with remembrance\, celebration and entertainment.
URL:https://events.kion546.com/event/relay-for-life-of-the-salinas-valley/
LOCATION:Salinas Rotary Arch\, 252 Main Street\, Salinas\, CA\, 93901\, United States
CATEGORIES:Community
ATTACH;FMTTYPE=image/jpeg:https://events.kion546.com/wp-content/uploads/2025/06/IMG_3741.jpeg
ORGANIZER;CN="American Cancer Society":MAILTO:nancy.valdez@cancer.org
END:VEVENT
BEGIN:VEVENT
DTSTART;TZID=America/Los_Angeles:20250920T190000
DTEND;TZID=America/Los_Angeles:20250920T210000
DTSTAMP:20260419T060514
CREATED:20250911T205123Z
LAST-MODIFIED:20250912T185805Z
UID:7615-1758394800-1758402000@events.kion546.com
SUMMARY:Los Tangueros del Oeste in concert
DESCRIPTION:Palenke Arts proudly presents Latin Grammy Nominees\, Los Tangueros de Oeste: a Nuevo Tango ensemble steeped in the styles of Astor Piazzolla\, Tanghetto\, Gotan Project and Bajo Fondo\, as well as the classic Tango of the Golden Era. \nFocusing on original compositions\, the group blends beats and textures from Hip-Hop and Electronica with Flamenco influences filtered through an improvisational lens. Their singular Nuevo Tango sound is cool\, impassioned\, sensuous\, seductive and utterly dance-inducing. Featuring the golden voice of singer/flutist Daniel Riera\, the piano virtuosity of up and coming pianist Diego Ramil\, the bandoneon mastery of Adrian Jost (Trio Garufa)\, the Flamenco inflected strumming of Venezuelan master guitarist Carlos Caminos and the emotionally lyrical sounds of violinist Charith Premawardhana (Classical Revolution)\, surrounded by the lush compositions of bassist/composer/bandleader Sascha Jacobsen (Trio Garufa\, The Musical Art Quintet)\, their music is as much for Tango lovers as it is an opening for all listeners into this magical world. \nLos Tangueros del Oeste will perform a mix of modern original Tango and Classic Tango from the Golden Era\, with a few masterworks by Astor Piazzolla thrown in to complete the night.
URL:https://events.kion546.com/event/los-tangueros-del-oeste-in-concert/
LOCATION:Palenke Arts\, 1713 Broadway Avenue\, Seaside\, 93955
CATEGORIES:Music,Other
ATTACH;FMTTYPE=image/jpeg:https://events.kion546.com/wp-content/uploads/2025/09/Los-Tangueros-del-Oeste-Flyer-.jpg
ORGANIZER;CN="Palenke Arts":MAILTO:jdiaz@palenkearts.org
END:VEVENT
END:VCALENDAR