BEGIN:VCALENDAR
VERSION:2.0
PRODID:-//KION Community Events - ECPv6.15.20//NONSGML v1.0//EN
CALSCALE:GREGORIAN
METHOD:PUBLISH
X-ORIGINAL-URL:https://events.kion546.com
X-WR-CALDESC:Events for KION Community Events
REFRESH-INTERVAL;VALUE=DURATION:PT1H
X-Robots-Tag:noindex
X-PUBLISHED-TTL:PT1H
BEGIN:VTIMEZONE
TZID:America/Los_Angeles
BEGIN:DAYLIGHT
TZOFFSETFROM:-0800
TZOFFSETTO:-0700
TZNAME:PDT
DTSTART:20230312T100000
END:DAYLIGHT
BEGIN:STANDARD
TZOFFSETFROM:-0700
TZOFFSETTO:-0800
TZNAME:PST
DTSTART:20231105T090000
END:STANDARD
BEGIN:DAYLIGHT
TZOFFSETFROM:-0800
TZOFFSETTO:-0700
TZNAME:PDT
DTSTART:20240310T100000
END:DAYLIGHT
BEGIN:STANDARD
TZOFFSETFROM:-0700
TZOFFSETTO:-0800
TZNAME:PST
DTSTART:20241103T090000
END:STANDARD
BEGIN:DAYLIGHT
TZOFFSETFROM:-0800
TZOFFSETTO:-0700
TZNAME:PDT
DTSTART:20250309T100000
END:DAYLIGHT
BEGIN:STANDARD
TZOFFSETFROM:-0700
TZOFFSETTO:-0800
TZNAME:PST
DTSTART:20251102T090000
END:STANDARD
END:VTIMEZONE
BEGIN:VEVENT
DTSTART;VALUE=DATE:20241104
DTEND;VALUE=DATE:20241230
DTSTAMP:20260423T044244
CREATED:20241104T232139Z
LAST-MODIFIED:20241104T232139Z
UID:5307-1730678400-1735516799@events.kion546.com
SUMMARY:"Macro to Grand Landscapes" by David J. Gubernick Exhibiting at ArtWorks @Salinas
DESCRIPTION:The Arts Council for Monterey County is excited to invite you to award-winning nature photographer David J. Gubernick’s stunning exhibit\, “Macro to Grand Landscapes\,” at ArtWorks @Salinas through December 29th. \nDavid’s exhibit beautifully captures Monterey County’s natural beauty\, from intricate macro shots of flowers to expansive landscapes. In addition to this stunning exhibit\, you can also see selected pieces from Kenji Tanner\, Deborah Good\, Shagufta Khan\, Nathaniel Stapleton\, Edgar Lorenzo\, and Emerald McColey. \nStop by ArtWorks @Salinas at 262 Main Street in Salinas\, Fridays through Sundays from 10 am – 2 pm. Open free to the community!
URL:https://events.kion546.com/event/macro-to-grand-landscapes-by-david-j-gubernick-exhibiting-at-artworks-salinas/
LOCATION:ArtWorks @Salinas\, 262 Main Street\, Salinas\, CA\, 93901\, United States
CATEGORIES:Art and Exhibits,Community
ATTACH;FMTTYPE=image/jpeg:https://events.kion546.com/wp-content/uploads/2024/11/David-Gubernick_PfeifferBeachSunsetThroughKeyholeArch-607_ebay.jpg
ORGANIZER;CN="Arts Council for Monterey County":MAILTO:info@arts4mc.org
END:VEVENT
BEGIN:VEVENT
DTSTART;TZID=America/Los_Angeles:20241206T170000
DTEND;TZID=America/Los_Angeles:20241206T193000
DTSTAMP:20260423T044244
CREATED:20241104T231605Z
LAST-MODIFIED:20241104T231605Z
UID:5294-1733504400-1733513400@events.kion546.com
SUMMARY:First Friday Artist Reception with David J. Gubernick at ArtWorks @Salinas
DESCRIPTION:The Arts Council for Monterey County is excited to invite you to the upcoming artist reception for award-winning nature photographer David J. Gubernick’s stunning exhibit\, “Macro to Grand Landscapes\,” on First Friday\, December 6th starting at 5:00 at ArtWorks @Salinas. \nDavid’s exhibit beautifully captures Monterey County’s natural beauty\, from intricate macro shots of flowers to expansive landscapes. Alongside David’s work\, enjoy the captivating art of Shagufta Khan\, Deborah Good\, Kenji Tanner\, Edgar Lorenzo\, Emerald McColey\, and Nathaniel Stapleton. Pianist Andres Benito-Yanez will perform live\, creating a wonderful atmosphere for the evening. \nDon’t miss this fantastic evening of art\, music\, free and open to all! Share with a friend!
URL:https://events.kion546.com/event/first-friday-artist-reception-with-david-j-gubernick-at-artworks-salinas/
LOCATION:ArtWorks @Salinas\, 262 Main Street\, Salinas\, CA\, 93901\, United States
CATEGORIES:Art and Exhibits,Community,Food and Drink,Music
ATTACH;FMTTYPE=image/jpeg:https://events.kion546.com/wp-content/uploads/2024/11/DavidGubernick_CaliforniaPoppy.jpg
ORGANIZER;CN="Arts Council for Monterey County":MAILTO:info@arts4mc.org
END:VEVENT
BEGIN:VEVENT
DTSTART;TZID=America/Los_Angeles:20241206T190000
DTEND;TZID=America/Los_Angeles:20241206T210000
DTSTAMP:20260423T044244
CREATED:20241028T202900Z
LAST-MODIFIED:20241028T202900Z
UID:5253-1733511600-1733518800@events.kion546.com
SUMMARY:Holiday Production: A Christmas Carol by Santa Cruz Shakespeare
DESCRIPTION:Santa Cruz Shakespeare (SCS) debuts a new holiday tradition for the whole family with its production of Charles Dickens’ A Christmas Carol\, starring Mike Ryan as Ebeneezer Scrooge. \nAudiences can expect a theatrical and music-filled adaptation of this classic play. \nThe production will run from November 23 through December 24\, 2024\, at the Veterans Memorial Hall at 846 Front St in Downtown Santa Cruz. There will be 28 performances\, including shows at 2:00 p.m. and 7:00 p.m. \nThe show will be directed by SCS Artistic Director\, Charles Pasternak and will star SCS favorite Mike Ryan as Scrooge. The performance will be filled with music\, with Luke Shepherd serving as the production’s music director and sound designer. Carols will be sung throughout the show. \nTicket prices range from $20 to $60. The show is 90 minutes\, no intermission. Tickets are available at www.santacruzshakespeare.org or through the seasonal Box Office\, 831-460-6399\, open Tuesday through Friday from 12p.m. to 4p.m.
URL:https://events.kion546.com/event/holiday-production-a-christmas-carol-by-santa-cruz-shakespeare/2024-12-06/
LOCATION:Santa Cruz County Veterans Memorial Building\, 846 Front St\, Santa Cruz\, 95060
CATEGORIES:Theater
ATTACH;FMTTYPE=image/jpeg:https://events.kion546.com/wp-content/uploads/2024/10/SCS_CalendarGraphic_1200x500.jpg
ORGANIZER;CN="santa cruz shakespeare":MAILTO:info@santacruzshakespeare.org
END:VEVENT
BEGIN:VEVENT
DTSTART;TZID=America/Los_Angeles:20241206T200000
DTEND;TZID=America/Los_Angeles:20241206T230000
DTSTAMP:20260423T044244
CREATED:20241116T065848Z
LAST-MODIFIED:20241130T072628Z
UID:5374-1733515200-1733526000@events.kion546.com
SUMMARY:Sweet Tooth
DESCRIPTION:Rock the row with Sweet Tooth\n\n\nSweet Tooth is a fun classic rock trio\, with a touch of reggae. Playing a good array of hit song\, this band is sure to keep you dancing all night long! \nLargest heated patio on Cannery Row. Fire pits. Heat lamps. Fireplace. Sportsbar. Pool Tables. Dartboards. 14 draft beers. Come out and dance under the stars!
URL:https://events.kion546.com/event/blue-fire-2/
LOCATION:The Salty Seal Brewpub and Sports Bar\, 653 Cannery Row\, Monterey\, CA\, 93940\, United States
ATTACH;FMTTYPE=image/jpeg:https://events.kion546.com/wp-content/uploads/2024/11/3112cebbf635de7dc644d42ceb33d100-Avigrn.tmp_.jpg
END:VEVENT
END:VCALENDAR